Workbook

Sheet berekening met overzicht werkn
A2: SIMULATIE TUSSENKOMST IFV MAX BRANDSTOFTOESLAG
A3: GELDIG VOOR PERIODE 01/05/2026 - 31/07/2026 | H3: PARITAIR COMITE 329.03
A4: 5-daagse werkweek
A12: Maand | B12: April | F12: 0.2 | H12: 0.1
A13: afstand woon-werk enkel | B13: maand-bedrag | C13: # dagen met auto naar werk | D13: Tussenkomst woon-werk in maand | E13: Ref.bedrag (€/km) | F13: Percentage op ref.bedrag | G13: Respectering max +0,10€ | H13: Toeslag + ref.bedrag | I13: Respectering max 20% | J13: Maximale toeslag (€/km)
A14: 1 | B14: =IF(NOT(ISBLANK(A14)),VLOOKUP(A14,Opzoeken!$A$2:$B$152,2,FALSE),"") -> 23.75 | C14: 22 | D14: =IF(C14=0,0,(MAX(0,(B14-(B14/21*(VLOOKUP($B$12,Opzoeken!$D$2:$E$2,2,FALSE)-C14)))))) -> 23.75 | E14: =D14/(2*A14*C14) -> 0.53977273 | F14: =E14*$F$12 -> 0.10795455 | G14: =IF(F14<0.1,"ok","niet ok") -> niet ok | H14: =E14+$H$12 -> 0.63977273 | I14: =IF(E14*1.2>H14,"ok","niet ok") -> ok | J14: =H14-E14 -> 0.1
A15: 2 | B15: =IF(NOT(ISBLANK(A15)),VLOOKUP(A15,Opzoeken!$A$2:$B$152,2,FALSE),"") -> 23.75 | C15: 22 | D15: =IF(C15=0,0,(MAX(0,(B15-(B15/21*(VLOOKUP($B$12,Opzoeken!$D$2:$E$2,2,FALSE)-C15)))))) -> 23.75 | E15: =D15/(2*A15*C15) -> 0.26988636 | F15: =E15*$F$12 -> 0.053977273 | G15: =IF(F15<0.1,"ok","niet ok") -> ok | H15: =E15+$H$12 -> 0.36988636 | I15: =IF(E15*1.2>H15,"ok","niet ok") -> niet ok | J15: =F15 -> 0.053977273
A16: 3 | B16: =IF(NOT(ISBLANK(A16)),VLOOKUP(A16,Opzoeken!$A$2:$B$152,2,FALSE),"") -> 23.75 | C16: 22 | D16: =IF(C16=0,0,(MAX(0,(B16-(B16/21*(VLOOKUP($B$12,Opzoeken!$D$2:$E$2,2,FALSE)-C16)))))) -> 23.75 | E16: =D16/(2*A16*C16) -> 0.17992424 | F16: =E16*$F$12 -> 0.035984848 | G16: =IF(F16<0.1,"ok","niet ok") -> ok | H16: =E16+$H$12 -> 0.27992424 | I16: =IF(E16*1.2>H16,"ok","niet ok") -> niet ok | J16: =F16 -> 0.035984848
A17: 4 | B17: =IF(NOT(ISBLANK(A17)),VLOOKUP(A17,Opzoeken!$A$2:$B$152,2,FALSE),"") -> 26 | C17: 22 | D17: =IF(C17=0,0,(MAX(0,(B17-(B17/21*(VLOOKUP($B$12,Opzoeken!$D$2:$E$2,2,FALSE)-C17)))))) -> 26 | E17: =D17/(2*A17*C17) -> 0.14772727 | F17: =E17*$F$12 -> 0.029545455 | G17: =IF(F17<0.1,"ok","niet ok") -> ok | H17: =E17+$H$12 -> 0.24772727 | I17: =IF(E17*1.2>H17,"ok","niet ok") -> niet ok | J17: =F17 -> 0.029545455
A18: 5 | B18: =IF(NOT(ISBLANK(A18)),VLOOKUP(A18,Opzoeken!$A$2:$B$152,2,FALSE),"") -> 28 | C18: 22 | D18: =IF(C18=0,0,(MAX(0,(B18-(B18/21*(VLOOKUP($B$12,Opzoeken!$D$2:$E$2,2,FALSE)-C18)))))) -> 28 | E18: =D18/(2*A18*C18) -> 0.12727273 | F18: =E18*$F$12 -> 0.025454545 | G18: =IF(F18<0.1,"ok","niet ok") -> ok | H18: =E18+$H$12 -> 0.22727273 | I18: =IF(E18*1.2>H18,"ok","niet ok") -> niet ok | J18: =F18 -> 0.025454545
A19: 6 | B19: =IF(NOT(ISBLANK(A19)),VLOOKUP(A19,Opzoeken!$A$2:$B$152,2,FALSE),"") -> 30 | C19: 22 | D19: =IF(C19=0,0,(MAX(0,(B19-(B19/21*(VLOOKUP($B$12,Opzoeken!$D$2:$E$2,2,FALSE)-C19)))))) -> 30 | E19: =D19/(2*A19*C19) -> 0.11363636 | F19: =E19*$F$12 -> 0.022727273 | G19: =IF(F19<0.1,"ok","niet ok") -> ok | H19: =E19+$H$12 -> 0.21363636 | I19: =IF(E19*1.2>H19,"ok","niet ok") -> niet ok | J19: =F19 -> 0.022727273
A20: 7 | B20: =IF(NOT(ISBLANK(A20)),VLOOKUP(A20,Opzoeken!$A$2:$B$152,2,FALSE),"") -> 31.5 | C20: 22 | D20: =IF(C20=0,0,(MAX(0,(B20-(B20/21*(VLOOKUP($B$12,Opzoeken!$D$2:$E$2,2,FALSE)-C20)))))) -> 31.5 | E20: =D20/(2*A20*C20) -> 0.10227273 | F20: =E20*$F$12 -> 0.020454545 | G20: =IF(F20<0.1,"ok","niet ok") -> ok | H20: =E20+$H$12 -> 0.20227273 | I20: =IF(E20*1.2>H20,"ok","niet ok") -> niet ok | J20: =F20 -> 0.020454545
A21: 8 | B21: =IF(NOT(ISBLANK(A21)),VLOOKUP(A21,Opzoeken!$A$2:$B$152,2,FALSE),"") -> 33.5 | C21: 22 | D21: =IF(C21=0,0,(MAX(0,(B21-(B21/21*(VLOOKUP($B$12,Opzoeken!$D$2:$E$2,2,FALSE)-C21)))))) -> 33.5 | E21: =D21/(2*A21*C21) -> 0.095170455 | F21: =E21*$F$12 -> 0.019034091 | G21: =IF(F21<0.1,"ok","niet ok") -> ok | H21: =E21+$H$12 -> 0.19517045 | I21: =IF(E21*1.2>H21,"ok","niet ok") -> niet ok | J21: =F21 -> 0.019034091
A22: 9 | B22: =IF(NOT(ISBLANK(A22)),VLOOKUP(A22,Opzoeken!$A$2:$B$152,2,FALSE),"") -> 35 | C22: 22 | D22: =IF(C22=0,0,(MAX(0,(B22-(B22/21*(VLOOKUP($B$12,Opzoeken!$D$2:$E$2,2,FALSE)-C22)))))) -> 35 | E22: =D22/(2*A22*C22) -> 0.088383838 | F22: =E22*$F$12 -> 0.017676768 | G22: =IF(F22<0.1,"ok","niet ok") -> ok | H22: =E22+$H$12 -> 0.18838384 | I22: =IF(E22*1.2>H22,"ok","niet ok") -> niet ok | J22: =F22 -> 0.017676768
A23: 10 | B23: =IF(NOT(ISBLANK(A23)),VLOOKUP(A23,Opzoeken!$A$2:$B$152,2,FALSE),"") -> 37 | C23: 22 | D23: =IF(C23=0,0,(MAX(0,(B23-(B23/21*(VLOOKUP($B$12,Opzoeken!$D$2:$E$2,2,FALSE)-C23)))))) -> 37 | E23: =D23/(2*A23*C23) -> 0.084090909 | F23: =E23*$F$12 -> 0.016818182 | G23: =IF(F23<0.1,"ok","niet ok") -> ok | H23: =E23+$H$12 -> 0.18409091 | I23: =IF(E23*1.2>H23,"ok","niet ok") -> niet ok | J23: =F23 -> 0.016818182
A24: 11 | B24: =IF(NOT(ISBLANK(A24)),VLOOKUP(A24,Opzoeken!$A$2:$B$152,2,FALSE),"") -> 39 | C24: 22 | D24: =IF(C24=0,0,(MAX(0,(B24-(B24/21*(VLOOKUP($B$12,Opzoeken!$D$2:$E$2,2,FALSE)-C24)))))) -> 39 | E24: =D24/(2*A24*C24) -> 0.080578512 | F24: =E24*$F$12 -> 0.016115702 | G24: =IF(F24<0.1,"ok","niet ok") -> ok | H24: =E24+$H$12 -> 0.18057851 | I24: =IF(E24*1.2>H24,"ok","niet ok") -> niet ok | J24: =F24 -> 0.016115702
A25: 12 | B25: =IF(NOT(ISBLANK(A25)),VLOOKUP(A25,Opzoeken!$A$2:$B$152,2,FALSE),"") -> 40.5 | C25: 22 | D25: =IF(C25=0,0,(MAX(0,(B25-(B25/21*(VLOOKUP($B$12,Opzoeken!$D$2:$E$2,2,FALSE)-C25)))))) -> 40.5 | E25: =D25/(2*A25*C25) -> 0.076704545 | F25: =E25*$F$12 -> 0.015340909 | G25: =IF(F25<0.1,"ok","niet ok") -> ok | H25: =E25+$H$12 -> 0.17670455 | I25: =IF(E25*1.2>H25,"ok","niet ok") -> niet ok | J25: =F25 -> 0.015340909
A26: 13 | B26: =IF(NOT(ISBLANK(A26)),VLOOKUP(A26,Opzoeken!$A$2:$B$152,2,FALSE),"") -> 42.5 | C26: 22 | D26: =IF(C26=0,0,(MAX(0,(B26-(B26/21*(VLOOKUP($B$12,Opzoeken!$D$2:$E$2,2,FALSE)-C26)))))) -> 42.5 | E26: =D26/(2*A26*C26) -> 0.074300699 | F26: =E26*$F$12 -> 0.01486014 | G26: =IF(F26<0.1,"ok","niet ok") -> ok | H26: =E26+$H$12 -> 0.1743007 | I26: =IF(E26*1.2>H26,"ok","niet ok") -> niet ok | J26: =F26 -> 0.01486014
... A163: 150 | B163: =IF(NOT(ISBLANK(A163)),VLOOKUP(A163,Opzoeken!$A$2:$B$152,2,FALSE),"") -> 173 | C163: 22 | D163: =IF(C163=0,0,(MAX(0,(B163-(B163/21*(VLOOKUP($B$12,Opzoeken!$D$2:$E$2,2,FALSE)-C163)))))) -> 173 | E163: =D163/(2*A163*C163) -> 0.026212121 | F163: =E163*$F$12 -> 0.0052424242 | G163: =IF(F163<0.1,"ok","niet ok") -> ok | H163: =E163+$H$12 -> 0.12621212 | I163: =IF(E163*1.2>H163,"ok","niet ok") -> niet ok | J163: =F163 -> 0.0052424242
A167: Samenvattend
A169: In deze simulatie gebruiken we de minimum verplichte woon-werkverplaatsing in het paritair comité.
A170: Wanneer je als organisatie zelf een andere (hogere) tussenkomst voorziet moet je zelf aftoetsing doen op basis
A171: van de organisatie-gegevens.
A173: De brandstoftoeslag moet voldoen aan dubbele regel: max +20% en max 0,10 € bijkomende vergoeding tov
A174: huidige vergoeding/km. Dit maakt dat we eerst onze klassieke minimale woon-werkvergoeding, die gelinkt is aan
A175: tabellen van NMBS en voorziet in een maandbedrag, ifv de enkele afstand, moeten omrekenen naar een bedrag
A176: per km (refertevergoeding).
A177: In de simulatie werd maand april '26 gebruikt (cfr wet), maar dit is identiek voor maanden mei-juni-juli '26
A178: met correct aantal weekdagen van de maand).
A180: Enkel voor de enkele afstand van 1 km kan het maximale bedrag van 0,10 € bijkomend worden toegekend.
A181: Voor alle andere (enkele) afstanden kan maximaal de 20% verhoging worden toegekend.
... A191: tijdelijke verhoging dienstverplaatsingen.

Sheet Opzoeken
A1: enkele afstand | B1: tussenkomst | D1: maand | E1: # dagen
A2: 1 | B2: 23.75 | D2: April | E2: 22
A3: 2 | B3: 23.75
A4: 3 | B4: 23.75
A5: 4 | B5: 26
A6: 5 | B6: 28
A7: 6 | B7: 30 | D7: vergoeding is gebaseerd op op % standaard maandabonnement NMBS
A8: 7 | B8: 31.5 | D8: voor de periode van februari tot en met januari van het volgende jaar
A9: 8 | B9: 33.5
A10: 9 | B10: 35
A11: 10 | B11: 37 | D11: # dagen zijn weekdagen / maand
A12: 11 | B12: 39 | D12: tool is dus enkel te gebruiken voor 5-daagse werkweek
A13: 12 | B13: 40.5
A14: 13 | B14: 42.5
A15: 14 | B15: 44 | D15: disclaimer:
A16: 15 | B16: 46 | D16: deze tool wordt door Sociare aangeboden aan haar leden
A17: 16 | B17: 47.5 | D17: gebruik onder verantwoordelijkheid van de gebruiker
A18: 17 | B18: 49.5
A19: 18 | B19: 51.5
A20: 19 | B20: 53
A21: 20 | B21: 55
A22: 21 | B22: 56.5
A23: 22 | B23: 58.5
A24: 23 | B24: 60
A25: 24 | B25: 62
A26: 25 | B26: 64
A27: 26 | B27: 65.5
A28: 27 | B28: 67.5
A29: 28 | B29: 69
... A151: 150 | B151: 173
