Workbook

Sheet berekening 
A2: SIMULATIE TUSSENKOMST WOON-WERK IFV MAX BRANDSTOFTOESLAG
A3: PERIODE 01/05/2026 - 31/07/2026 | H3: PARITAIR COMITE 329.01
A4: 5-daagse werkweek
A12: Maand | B12: April | G12: 0.2 | I12: 0.1
A13: afstand woon-werk enkel | B13: maand-bedrag | C13: # dagen met auto naar werk | D13: Tussenkomst woon-werk in maand | E13: Ref.bedrag (€/km) | F13: Percentage op ref.bedrag | G13: Respectering max +0,10 € | H13: Toeslag + ref.bedrag | I13: Respectering max 20% | J13: Maximale toeslag (€/km)
A14: 1 | B14: =IF(NOT(ISBLANK(A14)),VLOOKUP(A14,Tabellen!$A$2:$B$152,2,FALSE),"") -> 28.5 | C14: 22 | D14: =IF(C14=0,0,(MAX(0,(B14-(B14/21*(VLOOKUP($B$12,Tabellen!$E$2:$F$2,2,FALSE)-C14)))))) -> 28.5 | E14: =D14/(2*C14*A14) -> 0.64772727 | F14: =E14*G12 -> 0.12954545 | G14: =IF(F14<0.1,"ok","niet ok") -> niet ok | H14: =E14+I12 -> 0.74772727 | I14: =IF(E14*1.2>H14,"ok","niet ok") -> ok | J14: =H14-E14 -> 0.1
A15: 2 | B15: =IF(NOT(ISBLANK(A15)),VLOOKUP(A15,Tabellen!$A$2:$B$152,2,FALSE),"") -> 28.5 | C15: 22 | D15: =IF(C15=0,0,(MAX(0,(B15-(B15/21*(VLOOKUP($B$12,Tabellen!$E$2:$F$2,2,FALSE)-C15)))))) -> 28.5 | E15: =D15/(2*C15*A15) -> 0.32386364 | F15: =E15*G12 -> 0.064772727 | G15: =IF(F15<0.1,"ok","niet ok") -> ok | H15: =E15+I12 -> 0.42386364 | I15: =IF(E15*1.2>H15,"ok","niet ok") -> niet ok | J15: =F15 -> 0.064772727
A16: 3 | B16: =IF(NOT(ISBLANK(A16)),VLOOKUP(A16,Tabellen!$A$2:$B$152,2,FALSE),"") -> 28.5 | C16: 22 | D16: =IF(C16=0,0,(MAX(0,(B16-(B16/21*(VLOOKUP($B$12,Tabellen!$E$2:$F$2,2,FALSE)-C16)))))) -> 28.5 | E16: =D16/(2*C16*A16) -> 0.21590909 | F16: =E16*G12 -> 0.043181818 | G16: =IF(F16<0.1,"ok","niet ok") -> ok | H16: =E16+I12 -> 0.31590909 | I16: =IF(E16*1.2>H16,"ok","niet ok") -> niet ok | J16: =F16 -> 0.043181818
A17: 4 | B17: =IF(NOT(ISBLANK(A17)),VLOOKUP(A17,Tabellen!$A$2:$B$152,2,FALSE),"") -> 31.2 | C17: 22 | D17: =IF(C17=0,0,(MAX(0,(B17-(B17/21*(VLOOKUP($B$12,Tabellen!$E$2:$F$2,2,FALSE)-C17)))))) -> 31.2 | E17: =D17/(2*C17*A17) -> 0.17727273 | F17: =E17*G12 -> 0.035454545 | G17: =IF(F17<0.1,"ok","niet ok") -> ok | H17: =E17+I12 -> 0.27727273 | I17: =IF(E17*1.2>H17,"ok","niet ok") -> niet ok | J17: =F17 -> 0.035454545
A18: 5 | B18: =IF(NOT(ISBLANK(A18)),VLOOKUP(A18,Tabellen!$A$2:$B$152,2,FALSE),"") -> 33.6 | C18: 22 | D18: =IF(C18=0,0,(MAX(0,(B18-(B18/21*(VLOOKUP($B$12,Tabellen!$E$2:$F$2,2,FALSE)-C18)))))) -> 33.6 | E18: =D18/(2*C18*A18) -> 0.15272727 | F18: =E18*G12 -> 0.030545455 | G18: =IF(F18<0.1,"ok","niet ok") -> ok | H18: =E18+I12 -> 0.25272727 | I18: =IF(E18*1.2>H18,"ok","niet ok") -> niet ok | J18: =F18 -> 0.030545455
A19: 6 | B19: =IF(NOT(ISBLANK(A19)),VLOOKUP(A19,Tabellen!$A$2:$B$152,2,FALSE),"") -> 36 | C19: 22 | D19: =IF(C19=0,0,(MAX(0,(B19-(B19/21*(VLOOKUP($B$12,Tabellen!$E$2:$F$2,2,FALSE)-C19)))))) -> 36 | E19: =D19/(2*C19*A19) -> 0.13636364 | F19: =E19*G12 -> 0.027272727 | G19: =IF(F19<0.1,"ok","niet ok") -> ok | H19: =E19+I12 -> 0.23636364 | I19: =IF(E19*1.2>H19,"ok","niet ok") -> niet ok | J19: =F19 -> 0.027272727
A20: 7 | B20: =IF(NOT(ISBLANK(A20)),VLOOKUP(A20,Tabellen!$A$2:$B$152,2,FALSE),"") -> 37.8 | C20: 22 | D20: =IF(C20=0,0,(MAX(0,(B20-(B20/21*(VLOOKUP($B$12,Tabellen!$E$2:$F$2,2,FALSE)-C20)))))) -> 37.8 | E20: =D20/(2*C20*A20) -> 0.12272727 | F20: =E20*G12 -> 0.024545455 | G20: =IF(F20<0.1,"ok","niet ok") -> ok | H20: =E20+I12 -> 0.22272727 | I20: =IF(E20*1.2>H20,"ok","niet ok") -> niet ok | J20: =F20 -> 0.024545455
A21: 8 | B21: =IF(NOT(ISBLANK(A21)),VLOOKUP(A21,Tabellen!$A$2:$B$152,2,FALSE),"") -> 40.2 | C21: 22 | D21: =IF(C21=0,0,(MAX(0,(B21-(B21/21*(VLOOKUP($B$12,Tabellen!$E$2:$F$2,2,FALSE)-C21)))))) -> 40.2 | E21: =D21/(2*C21*A21) -> 0.11420455 | F21: =E21*G12 -> 0.022840909 | G21: =IF(F21<0.1,"ok","niet ok") -> ok | H21: =E21+I12 -> 0.21420455 | I21: =IF(E21*1.2>H21,"ok","niet ok") -> niet ok | J21: =F21 -> 0.022840909
A22: 9 | B22: =IF(NOT(ISBLANK(A22)),VLOOKUP(A22,Tabellen!$A$2:$B$152,2,FALSE),"") -> 42 | C22: 22 | D22: =IF(C22=0,0,(MAX(0,(B22-(B22/21*(VLOOKUP($B$12,Tabellen!$E$2:$F$2,2,FALSE)-C22)))))) -> 42 | E22: =D22/(2*C22*A22) -> 0.10606061 | F22: =E22*G12 -> 0.021212121 | G22: =IF(F22<0.1,"ok","niet ok") -> ok | H22: =E22+I12 -> 0.20606061 | I22: =IF(E22*1.2>H22,"ok","niet ok") -> niet ok | J22: =F22 -> 0.021212121
A23: 10 | B23: =IF(NOT(ISBLANK(A23)),VLOOKUP(A23,Tabellen!$A$2:$B$152,2,FALSE),"") -> 44.4 | C23: 22 | D23: =IF(C23=0,0,(MAX(0,(B23-(B23/21*(VLOOKUP($B$12,Tabellen!$E$2:$F$2,2,FALSE)-C23)))))) -> 44.4 | E23: =D23/(2*C23*A23) -> 0.10090909 | F23: =E23*G12 -> 0.020181818 | G23: =IF(F23<0.1,"ok","niet ok") -> ok | H23: =E23+I12 -> 0.20090909 | I23: =IF(E23*1.2>H23,"ok","niet ok") -> niet ok | J23: =F23 -> 0.020181818
A24: 11 | B24: =IF(NOT(ISBLANK(A24)),VLOOKUP(A24,Tabellen!$A$2:$B$152,2,FALSE),"") -> 46.8 | C24: 22 | D24: =IF(C24=0,0,(MAX(0,(B24-(B24/21*(VLOOKUP($B$12,Tabellen!$E$2:$F$2,2,FALSE)-C24)))))) -> 46.8 | E24: =D24/(2*C24*A24) -> 0.096694215 | F24: =E24*G12 -> 0.019338843 | G24: =IF(F24<0.1,"ok","niet ok") -> ok | H24: =E24+I12 -> 0.19669421 | I24: =IF(E24*1.2>H24,"ok","niet ok") -> niet ok | J24: =F24 -> 0.019338843
A25: 12 | B25: =IF(NOT(ISBLANK(A25)),VLOOKUP(A25,Tabellen!$A$2:$B$152,2,FALSE),"") -> 48.6 | C25: 22 | D25: =IF(C25=0,0,(MAX(0,(B25-(B25/21*(VLOOKUP($B$12,Tabellen!$E$2:$F$2,2,FALSE)-C25)))))) -> 48.6 | E25: =D25/(2*C25*A25) -> 0.092045455 | F25: =E25*G12 -> 0.018409091 | G25: =IF(F25<0.1,"ok","niet ok") -> ok | H25: =E25+I12 -> 0.19204545 | I25: =IF(E25*1.2>H25,"ok","niet ok") -> niet ok | J25: =F25 -> 0.018409091
A26: 13 | B26: =IF(NOT(ISBLANK(A26)),VLOOKUP(A26,Tabellen!$A$2:$B$152,2,FALSE),"") -> 51 | C26: 22 | D26: =IF(C26=0,0,(MAX(0,(B26-(B26/21*(VLOOKUP($B$12,Tabellen!$E$2:$F$2,2,FALSE)-C26)))))) -> 51 | E26: =D26/(2*C26*A26) -> 0.089160839 | F26: =E26*G12 -> 0.017832168 | G26: =IF(F26<0.1,"ok","niet ok") -> ok | H26: =E26+I12 -> 0.18916084 | I26: =IF(E26*1.2>H26,"ok","niet ok") -> niet ok | J26: =F26 -> 0.017832168
A27: 14 | B27: =IF(NOT(ISBLANK(A27)),VLOOKUP(A27,Tabellen!$A$2:$B$152,2,FALSE),"") -> 52.8 | C27: 22 | D27: =IF(C27=0,0,(MAX(0,(B27-(B27/21*(VLOOKUP($B$12,Tabellen!$E$2:$F$2,2,FALSE)-C27)))))) -> 52.8 | E27: =D27/(2*C27*A27) -> 0.085714286 | F27: =E27*G12 -> 0.017142857 | G27: =IF(F27<0.1,"ok","niet ok") -> ok | H27: =E27+I12 -> 0.18571429 | I27: =IF(E27*1.2>H27,"ok","niet ok") -> niet ok | J27: =F27 -> 0.017142857
A28: 15 | B28: =IF(NOT(ISBLANK(A28)),VLOOKUP(A28,Tabellen!$A$2:$B$152,2,FALSE),"") -> 55.2 | C28: 22 | D28: =IF(C28=0,0,(MAX(0,(B28-(B28/21*(VLOOKUP($B$12,Tabellen!$E$2:$F$2,2,FALSE)-C28)))))) -> 55.2 | E28: =D28/(2*C28*A28) -> 0.083636364 | F28: =E28*G12 -> 0.016727273 | G28: =IF(F28<0.1,"ok","niet ok") -> ok | H28: =E28+I12 -> 0.18363636 | I28: =IF(E28*1.2>H28,"ok","niet ok") -> niet ok | J28: =F28 -> 0.016727273
A29: 16 | B29: =IF(NOT(ISBLANK(A29)),VLOOKUP(A29,Tabellen!$A$2:$B$152,2,FALSE),"") -> 57 | C29: 22 | D29: =IF(C29=0,0,(MAX(0,(B29-(B29/21*(VLOOKUP($B$12,Tabellen!$E$2:$F$2,2,FALSE)-C29)))))) -> 57 | E29: =D29/(2*C29*A29) -> 0.080965909 | F29: =E29*G12 -> 0.016193182 | G29: =IF(F29<0.1,"ok","niet ok") -> ok | H29: =E29+I12 -> 0.18096591 | I29: =IF(E29*1.2>H29,"ok","niet ok") -> niet ok | J29: =F29 -> 0.016193182
A30: 17 | B30: =IF(NOT(ISBLANK(A30)),VLOOKUP(A30,Tabellen!$A$2:$B$152,2,FALSE),"") -> 59.4 | C30: 22 | D30: =IF(C30=0,0,(MAX(0,(B30-(B30/21*(VLOOKUP($B$12,Tabellen!$E$2:$F$2,2,FALSE)-C30)))))) -> 59.4 | E30: =D30/(2*C30*A30) -> 0.079411765 | F30: =E30*G12 -> 0.015882353 | G30: =IF(F30<0.1,"ok","niet ok") -> ok | H30: =E30+I12 -> 0.17941176 | I30: =IF(E30*1.2>H30,"ok","niet ok") -> niet ok | J30: =F30 -> 0.015882353
A31: 18 | B31: =IF(NOT(ISBLANK(A31)),VLOOKUP(A31,Tabellen!$A$2:$B$152,2,FALSE),"") -> 61.8 | C31: 22 | D31: =IF(C31=0,0,(MAX(0,(B31-(B31/21*(VLOOKUP($B$12,Tabellen!$E$2:$F$2,2,FALSE)-C31)))))) -> 61.8 | E31: =D31/(2*C31*A31) -> 0.078030303 | F31: =E31*G12 -> 0.015606061 | G31: =IF(F31<0.1,"ok","niet ok") -> ok | H31: =E31+I12 -> 0.1780303 | I31: =IF(E31*1.2>H31,"ok","niet ok") -> niet ok | J31: =F31 -> 0.015606061
A32: 19 | B32: =IF(NOT(ISBLANK(A32)),VLOOKUP(A32,Tabellen!$A$2:$B$152,2,FALSE),"") -> 63.6 | C32: 22 | D32: =IF(C32=0,0,(MAX(0,(B32-(B32/21*(VLOOKUP($B$12,Tabellen!$E$2:$F$2,2,FALSE)-C32)))))) -> 63.6 | E32: =D32/(2*C32*A32) -> 0.076076555 | F32: =E32*G12 -> 0.015215311 | G32: =IF(F32<0.1,"ok","niet ok") -> ok | H32: =E32+I12 -> 0.17607656 | I32: =IF(E32*1.2>H32,"ok","niet ok") -> niet ok | J32: =F32 -> 0.015215311
A33: 20 | B33: =IF(NOT(ISBLANK(A33)),VLOOKUP(A33,Tabellen!$A$2:$B$152,2,FALSE),"") -> 66 | C33: 22 | D33: =IF(C33=0,0,(MAX(0,(B33-(B33/21*(VLOOKUP($B$12,Tabellen!$E$2:$F$2,2,FALSE)-C33)))))) -> 66 | E33: =D33/(2*C33*A33) -> 0.075 | F33: =E33*G12 -> 0.015 | G33: =IF(F33<0.1,"ok","niet ok") -> ok | H33: =E33+I12 -> 0.175 | I33: =IF(E33*1.2>H33,"ok","niet ok") -> niet ok | J33: =F33 -> 0.015
A34: 21 | B34: =IF(NOT(ISBLANK(A34)),VLOOKUP(A34,Tabellen!$A$2:$B$152,2,FALSE),"") -> 67.8 | C34: 22 | D34: =IF(C34=0,0,(MAX(0,(B34-(B34/21*(VLOOKUP($B$12,Tabellen!$E$2:$F$2,2,FALSE)-C34)))))) -> 67.8 | E34: =D34/(2*C34*A34) -> 0.073376623 | F34: =E34*G12 -> 0.014675325 | G34: =IF(F34<0.1,"ok","niet ok") -> ok | H34: =E34+I12 -> 0.17337662 | I34: =IF(E34*1.2>H34,"ok","niet ok") -> niet ok | J34: =F34 -> 0.014675325
A35: 22 | B35: =IF(NOT(ISBLANK(A35)),VLOOKUP(A35,Tabellen!$A$2:$B$152,2,FALSE),"") -> 70.2 | C35: 22 | D35: =IF(C35=0,0,(MAX(0,(B35-(B35/21*(VLOOKUP($B$12,Tabellen!$E$2:$F$2,2,FALSE)-C35)))))) -> 70.2 | E35: =D35/(2*C35*A35) -> 0.072520661 | F35: =E35*G12 -> 0.014504132 | G35: =IF(F35<0.1,"ok","niet ok") -> ok | H35: =E35+I12 -> 0.17252066 | I35: =IF(E35*1.2>H35,"ok","niet ok") -> niet ok | J35: =F35 -> 0.014504132
A36: 23 | B36: =IF(NOT(ISBLANK(A36)),VLOOKUP(A36,Tabellen!$A$2:$B$152,2,FALSE),"") -> 72 | C36: 22 | D36: =IF(C36=0,0,(MAX(0,(B36-(B36/21*(VLOOKUP($B$12,Tabellen!$E$2:$F$2,2,FALSE)-C36)))))) -> 72 | E36: =D36/(2*C36*A36) -> 0.071146245 | F36: =E36*G12 -> 0.014229249 | G36: =IF(F36<0.1,"ok","niet ok") -> ok | H36: =E36+I12 -> 0.17114625 | I36: =IF(E36*1.2>H36,"ok","niet ok") -> niet ok | J36: =F36 -> 0.014229249
A37: 24 | B37: =IF(NOT(ISBLANK(A37)),VLOOKUP(A37,Tabellen!$A$2:$B$152,2,FALSE),"") -> 74.4 | C37: 22 | D37: =IF(C37=0,0,(MAX(0,(B37-(B37/21*(VLOOKUP($B$12,Tabellen!$E$2:$F$2,2,FALSE)-C37)))))) -> 74.4 | E37: =D37/(2*C37*A37) -> 0.070454545 | F37: =E37*G12 -> 0.014090909 | G37: =IF(F37<0.1,"ok","niet ok") -> ok | H37: =E37+I12 -> 0.17045455 | I37: =IF(E37*1.2>H37,"ok","niet ok") -> niet ok | J37: =F37 -> 0.014090909
A38: 25 | B38: =IF(NOT(ISBLANK(A38)),VLOOKUP(A38,Tabellen!$A$2:$B$152,2,FALSE),"") -> 76.8 | C38: 22 | D38: =IF(C38=0,0,(MAX(0,(B38-(B38/21*(VLOOKUP($B$12,Tabellen!$E$2:$F$2,2,FALSE)-C38)))))) -> 76.8 | E38: =D38/(2*C38*A38) -> 0.069818182 | F38: =E38*G12 -> 0.013963636 | G38: =IF(F38<0.1,"ok","niet ok") -> ok | H38: =E38+I12 -> 0.16981818 | I38: =IF(E38*1.2>H38,"ok","niet ok") -> niet ok | J38: =F38 -> 0.013963636
A39: 26 | B39: =IF(NOT(ISBLANK(A39)),VLOOKUP(A39,Tabellen!$A$2:$B$152,2,FALSE),"") -> 78.6 | C39: 22 | D39: =IF(C39=0,0,(MAX(0,(B39-(B39/21*(VLOOKUP($B$12,Tabellen!$E$2:$F$2,2,FALSE)-C39)))))) -> 78.6 | E39: =D39/(2*C39*A39) -> 0.068706294 | F39: =E39*G12 -> 0.013741259 | G39: =IF(F39<0.1,"ok","niet ok") -> ok | H39: =E39+I12 -> 0.16870629 | I39: =IF(E39*1.2>H39,"ok","niet ok") -> niet ok | J39: =F39 -> 0.013741259
A40: 27 | B40: =IF(NOT(ISBLANK(A40)),VLOOKUP(A40,Tabellen!$A$2:$B$152,2,FALSE),"") -> 81 | C40: 22 | D40: =IF(C40=0,0,(MAX(0,(B40-(B40/21*(VLOOKUP($B$12,Tabellen!$E$2:$F$2,2,FALSE)-C40)))))) -> 81 | E40: =D40/(2*C40*A40) -> 0.068181818 | F40: =E40*G12 -> 0.013636364 | G40: =IF(F40<0.1,"ok","niet ok") -> ok | H40: =E40+I12 -> 0.16818182 | I40: =IF(E40*1.2>H40,"ok","niet ok") -> niet ok | J40: =F40 -> 0.013636364
A41: 28 | B41: =IF(NOT(ISBLANK(A41)),VLOOKUP(A41,Tabellen!$A$2:$B$152,2,FALSE),"") -> 82.8 | C41: 22 | D41: =IF(C41=0,0,(MAX(0,(B41-(B41/21*(VLOOKUP($B$12,Tabellen!$E$2:$F$2,2,FALSE)-C41)))))) -> 82.8 | E41: =D41/(2*C41*A41) -> 0.067207792 | F41: =E41*G12 -> 0.013441558 | G41: =IF(F41<0.1,"ok","niet ok") -> ok | H41: =E41+I12 -> 0.16720779 | I41: =IF(E41*1.2>H41,"ok","niet ok") -> niet ok | J41: =F41 -> 0.013441558
A42: 29 | B42: =IF(NOT(ISBLANK(A42)),VLOOKUP(A42,Tabellen!$A$2:$B$152,2,FALSE),"") -> 85.2 | C42: 22 | D42: =IF(C42=0,0,(MAX(0,(B42-(B42/21*(VLOOKUP($B$12,Tabellen!$E$2:$F$2,2,FALSE)-C42)))))) -> 85.2 | E42: =D42/(2*C42*A42) -> 0.06677116 | F42: =E42*G12 -> 0.013354232 | G42: =IF(F42<0.1,"ok","niet ok") -> ok | H42: =E42+I12 -> 0.16677116 | I42: =IF(E42*1.2>H42,"ok","niet ok") -> niet ok | J42: =F42 -> 0.013354232
A43: 30 | B43: =IF(NOT(ISBLANK(A43)),VLOOKUP(A43,Tabellen!$A$2:$B$152,2,FALSE),"") -> 87.6 | C43: 22 | D43: =IF(C43=0,0,(MAX(0,(B43-(B43/21*(VLOOKUP($B$12,Tabellen!$E$2:$F$2,2,FALSE)-C43)))))) -> 87.6 | E43: =D43/(2*C43*A43) -> 0.066363636 | F43: =E43*G12 -> 0.013272727 | G43: =IF(F43<0.1,"ok","niet ok") -> ok | H43: =E43+I12 -> 0.16636364 | I43: =IF(E43*1.2>H43,"ok","niet ok") -> niet ok | J43: =F43 -> 0.013272727
A44: 31 | B44: =IF(NOT(ISBLANK(A44)),VLOOKUP(A44,Tabellen!$A$2:$B$152,2,FALSE),"") -> 90.6 | C44: 22 | D44: =IF(C44=0,0,(MAX(0,(B44-(B44/21*(VLOOKUP($B$12,Tabellen!$E$2:$F$2,2,FALSE)-C44)))))) -> 90.6 | E44: =D44/(2*C44*A44) -> 0.066422287 | F44: =E44*G12 -> 0.013284457 | G44: =IF(F44<0.1,"ok","niet ok") -> ok | H44: =E44+I12 -> 0.16642229 | I44: =IF(E44*1.2>H44,"ok","niet ok") -> niet ok | J44: =F44 -> 0.013284457
A45: 32 | B45: =IF(NOT(ISBLANK(A45)),VLOOKUP(A45,Tabellen!$A$2:$B$152,2,FALSE),"") -> 90.6 | C45: 22 | D45: =IF(C45=0,0,(MAX(0,(B45-(B45/21*(VLOOKUP($B$12,Tabellen!$E$2:$F$2,2,FALSE)-C45)))))) -> 90.6 | E45: =D45/(2*C45*A45) -> 0.064346591 | F45: =E45*G12 -> 0.012869318 | G45: =IF(F45<0.1,"ok","niet ok") -> ok | H45: =E45+I12 -> 0.16434659 | I45: =IF(E45*1.2>H45,"ok","niet ok") -> niet ok | J45: =F45 -> 0.012869318
A46: 33 | B46: =IF(NOT(ISBLANK(A46)),VLOOKUP(A46,Tabellen!$A$2:$B$152,2,FALSE),"") -> 90.6 | C46: 22 | D46: =IF(C46=0,0,(MAX(0,(B46-(B46/21*(VLOOKUP($B$12,Tabellen!$E$2:$F$2,2,FALSE)-C46)))))) -> 90.6 | E46: =D46/(2*C46*A46) -> 0.062396694 | F46: =E46*G12 -> 0.012479339 | G46: =IF(F46<0.1,"ok","niet ok") -> ok | H46: =E46+I12 -> 0.16239669 | I46: =IF(E46*1.2>H46,"ok","niet ok") -> niet ok | J46: =F46 -> 0.012479339
A47: 34 | B47: =IF(NOT(ISBLANK(A47)),VLOOKUP(A47,Tabellen!$A$2:$B$152,2,FALSE),"") -> 96 | C47: 22 | D47: =IF(C47=0,0,(MAX(0,(B47-(B47/21*(VLOOKUP($B$12,Tabellen!$E$2:$F$2,2,FALSE)-C47)))))) -> 96 | E47: =D47/(2*C47*A47) -> 0.064171123 | F47: =E47*G12 -> 0.012834225 | G47: =IF(F47<0.1,"ok","niet ok") -> ok | H47: =E47+I12 -> 0.16417112 | I47: =IF(E47*1.2>H47,"ok","niet ok") -> niet ok | J47: =F47 -> 0.012834225
A48: 35 | B48: =IF(NOT(ISBLANK(A48)),VLOOKUP(A48,Tabellen!$A$2:$B$152,2,FALSE),"") -> 96 | C48: 22 | D48: =IF(C48=0,0,(MAX(0,(B48-(B48/21*(VLOOKUP($B$12,Tabellen!$E$2:$F$2,2,FALSE)-C48)))))) -> 96 | E48: =D48/(2*C48*A48) -> 0.062337662 | F48: =E48*G12 -> 0.012467532 | G48: =IF(F48<0.1,"ok","niet ok") -> ok | H48: =E48+I12 -> 0.16233766 | I48: =IF(E48*1.2>H48,"ok","niet ok") -> niet ok | J48: =F48 -> 0.012467532
A49: 36 | B49: =IF(NOT(ISBLANK(A49)),VLOOKUP(A49,Tabellen!$A$2:$B$152,2,FALSE),"") -> 96 | C49: 22 | D49: =IF(C49=0,0,(MAX(0,(B49-(B49/21*(VLOOKUP($B$12,Tabellen!$E$2:$F$2,2,FALSE)-C49)))))) -> 96 | E49: =D49/(2*C49*A49) -> 0.060606061 | F49: =E49*G12 -> 0.012121212 | G49: =IF(F49<0.1,"ok","niet ok") -> ok | H49: =E49+I12 -> 0.16060606 | I49: =IF(E49*1.2>H49,"ok","niet ok") -> niet ok | J49: =F49 -> 0.012121212
A50: 37 | B50: =IF(NOT(ISBLANK(A50)),VLOOKUP(A50,Tabellen!$A$2:$B$152,2,FALSE),"") -> 101.4 | C50: 22 | D50: =IF(C50=0,0,(MAX(0,(B50-(B50/21*(VLOOKUP($B$12,Tabellen!$E$2:$F$2,2,FALSE)-C50)))))) -> 101.4 | E50: =D50/(2*C50*A50) -> 0.062285012 | F50: =E50*G12 -> 0.012457002 | G50: =IF(F50<0.1,"ok","niet ok") -> ok | H50: =E50+I12 -> 0.16228501 | I50: =IF(E50*1.2>H50,"ok","niet ok") -> niet ok | J50: =F50 -> 0.012457002
A51: 38 | B51: =IF(NOT(ISBLANK(A51)),VLOOKUP(A51,Tabellen!$A$2:$B$152,2,FALSE),"") -> 101.4 | C51: 22 | D51: =IF(C51=0,0,(MAX(0,(B51-(B51/21*(VLOOKUP($B$12,Tabellen!$E$2:$F$2,2,FALSE)-C51)))))) -> 101.4 | E51: =D51/(2*C51*A51) -> 0.060645933 | F51: =E51*G12 -> 0.012129187 | G51: =IF(F51<0.1,"ok","niet ok") -> ok | H51: =E51+I12 -> 0.16064593 | I51: =IF(E51*1.2>H51,"ok","niet ok") -> niet ok | J51: =F51 -> 0.012129187
A52: 39 | B52: =IF(NOT(ISBLANK(A52)),VLOOKUP(A52,Tabellen!$A$2:$B$152,2,FALSE),"") -> 101.4 | C52: 22 | D52: =IF(C52=0,0,(MAX(0,(B52-(B52/21*(VLOOKUP($B$12,Tabellen!$E$2:$F$2,2,FALSE)-C52)))))) -> 101.4 | E52: =D52/(2*C52*A52) -> 0.059090909 | F52: =E52*G12 -> 0.011818182 | G52: =IF(F52<0.1,"ok","niet ok") -> ok | H52: =E52+I12 -> 0.15909091 | I52: =IF(E52*1.2>H52,"ok","niet ok") -> niet ok | J52: =F52 -> 0.011818182
A53: 40 | B53: =IF(NOT(ISBLANK(A53)),VLOOKUP(A53,Tabellen!$A$2:$B$152,2,FALSE),"") -> 106.8 | C53: 22 | D53: =IF(C53=0,0,(MAX(0,(B53-(B53/21*(VLOOKUP($B$12,Tabellen!$E$2:$F$2,2,FALSE)-C53)))))) -> 106.8 | E53: =D53/(2*C53*A53) -> 0.060681818 | F53: =E53*G12 -> 0.012136364 | G53: =IF(F53<0.1,"ok","niet ok") -> ok | H53: =E53+I12 -> 0.16068182 | I53: =IF(E53*1.2>H53,"ok","niet ok") -> niet ok | J53: =F53 -> 0.012136364
A54: 41 | B54: =IF(NOT(ISBLANK(A54)),VLOOKUP(A54,Tabellen!$A$2:$B$152,2,FALSE),"") -> 106.8 | C54: 22 | D54: =IF(C54=0,0,(MAX(0,(B54-(B54/21*(VLOOKUP($B$12,Tabellen!$E$2:$F$2,2,FALSE)-C54)))))) -> 106.8 | E54: =D54/(2*C54*A54) -> 0.059201774 | F54: =E54*G12 -> 0.011840355 | G54: =IF(F54<0.1,"ok","niet ok") -> ok | H54: =E54+I12 -> 0.15920177 | I54: =IF(E54*1.2>H54,"ok","niet ok") -> niet ok | J54: =F54 -> 0.011840355
A55: 42 | B55: =IF(NOT(ISBLANK(A55)),VLOOKUP(A55,Tabellen!$A$2:$B$152,2,FALSE),"") -> 106.8 | C55: 22 | D55: =IF(C55=0,0,(MAX(0,(B55-(B55/21*(VLOOKUP($B$12,Tabellen!$E$2:$F$2,2,FALSE)-C55)))))) -> 106.8 | E55: =D55/(2*C55*A55) -> 0.057792208 | F55: =E55*G12 -> 0.011558442 | G55: =IF(F55<0.1,"ok","niet ok") -> ok | H55: =E55+I12 -> 0.15779221 | I55: =IF(E55*1.2>H55,"ok","niet ok") -> niet ok | J55: =F55 -> 0.011558442
A56: 43 | B56: =IF(NOT(ISBLANK(A56)),VLOOKUP(A56,Tabellen!$A$2:$B$152,2,FALSE),"") -> 112.2 | C56: 22 | D56: =IF(C56=0,0,(MAX(0,(B56-(B56/21*(VLOOKUP($B$12,Tabellen!$E$2:$F$2,2,FALSE)-C56)))))) -> 112.2 | E56: =D56/(2*C56*A56) -> 0.059302326 | F56: =E56*G12 -> 0.011860465 | G56: =IF(F56<0.1,"ok","niet ok") -> ok | H56: =E56+I12 -> 0.15930233 | I56: =IF(E56*1.2>H56,"ok","niet ok") -> niet ok | J56: =F56 -> 0.011860465
A57: 44 | B57: =IF(NOT(ISBLANK(A57)),VLOOKUP(A57,Tabellen!$A$2:$B$152,2,FALSE),"") -> 112.2 | C57: 22 | D57: =IF(C57=0,0,(MAX(0,(B57-(B57/21*(VLOOKUP($B$12,Tabellen!$E$2:$F$2,2,FALSE)-C57)))))) -> 112.2 | E57: =D57/(2*C57*A57) -> 0.057954545 | F57: =E57*G12 -> 0.011590909 | G57: =IF(F57<0.1,"ok","niet ok") -> ok | H57: =E57+I12 -> 0.15795455 | I57: =IF(E57*1.2>H57,"ok","niet ok") -> niet ok | J57: =F57 -> 0.011590909
A58: 45 | B58: =IF(NOT(ISBLANK(A58)),VLOOKUP(A58,Tabellen!$A$2:$B$152,2,FALSE),"") -> 112.2 | C58: 22 | D58: =IF(C58=0,0,(MAX(0,(B58-(B58/21*(VLOOKUP($B$12,Tabellen!$E$2:$F$2,2,FALSE)-C58)))))) -> 112.2 | E58: =D58/(2*C58*A58) -> 0.056666667 | F58: =E58*G12 -> 0.011333333 | G58: =IF(F58<0.1,"ok","niet ok") -> ok | H58: =E58+I12 -> 0.15666667 | I58: =IF(E58*1.2>H58,"ok","niet ok") -> niet ok | J58: =F58 -> 0.011333333
A59: 46 | B59: =IF(NOT(ISBLANK(A59)),VLOOKUP(A59,Tabellen!$A$2:$B$152,2,FALSE),"") -> 117 | C59: 22 | D59: =IF(C59=0,0,(MAX(0,(B59-(B59/21*(VLOOKUP($B$12,Tabellen!$E$2:$F$2,2,FALSE)-C59)))))) -> 117 | E59: =D59/(2*C59*A59) -> 0.057806324 | F59: =E59*G12 -> 0.011561265 | G59: =IF(F59<0.1,"ok","niet ok") -> ok | H59: =E59+I12 -> 0.15780632 | I59: =IF(E59*1.2>H59,"ok","niet ok") -> niet ok | J59: =F59 -> 0.011561265
A60: 47 | B60: =IF(NOT(ISBLANK(A60)),VLOOKUP(A60,Tabellen!$A$2:$B$152,2,FALSE),"") -> 117 | C60: 22 | D60: =IF(C60=0,0,(MAX(0,(B60-(B60/21*(VLOOKUP($B$12,Tabellen!$E$2:$F$2,2,FALSE)-C60)))))) -> 117 | E60: =D60/(2*C60*A60) -> 0.056576402 | F60: =E60*G12 -> 0.01131528 | G60: =IF(F60<0.1,"ok","niet ok") -> ok | H60: =E60+I12 -> 0.1565764 | I60: =IF(E60*1.2>H60,"ok","niet ok") -> niet ok | J60: =F60 -> 0.01131528
A61: 48 | B61: =IF(NOT(ISBLANK(A61)),VLOOKUP(A61,Tabellen!$A$2:$B$152,2,FALSE),"") -> 117 | C61: 22 | D61: =IF(C61=0,0,(MAX(0,(B61-(B61/21*(VLOOKUP($B$12,Tabellen!$E$2:$F$2,2,FALSE)-C61)))))) -> 117 | E61: =D61/(2*C61*A61) -> 0.055397727 | F61: =E61*G12 -> 0.011079545 | G61: =IF(F61<0.1,"ok","niet ok") -> ok | H61: =E61+I12 -> 0.15539773 | I61: =IF(E61*1.2>H61,"ok","niet ok") -> niet ok | J61: =F61 -> 0.011079545
A62: 49 | B62: =IF(NOT(ISBLANK(A62)),VLOOKUP(A62,Tabellen!$A$2:$B$152,2,FALSE),"") -> 122.4 | C62: 22 | D62: =IF(C62=0,0,(MAX(0,(B62-(B62/21*(VLOOKUP($B$12,Tabellen!$E$2:$F$2,2,FALSE)-C62)))))) -> 122.4 | E62: =D62/(2*C62*A62) -> 0.0567718 | F62: =E62*G12 -> 0.01135436 | G62: =IF(F62<0.1,"ok","niet ok") -> ok | H62: =E62+I12 -> 0.1567718 | I62: =IF(E62*1.2>H62,"ok","niet ok") -> niet ok | J62: =F62 -> 0.01135436
A63: 50 | B63: =IF(NOT(ISBLANK(A63)),VLOOKUP(A63,Tabellen!$A$2:$B$152,2,FALSE),"") -> 122.4 | C63: 22 | D63: =IF(C63=0,0,(MAX(0,(B63-(B63/21*(VLOOKUP($B$12,Tabellen!$E$2:$F$2,2,FALSE)-C63)))))) -> 122.4 | E63: =D63/(2*C63*A63) -> 0.055636364 | F63: =E63*G12 -> 0.011127273 | G63: =IF(F63<0.1,"ok","niet ok") -> ok | H63: =E63+I12 -> 0.15563636 | I63: =IF(E63*1.2>H63,"ok","niet ok") -> niet ok | J63: =F63 -> 0.011127273
A64: 51 | B64: =IF(NOT(ISBLANK(A64)),VLOOKUP(A64,Tabellen!$A$2:$B$152,2,FALSE),"") -> 122.4 | C64: 22 | D64: =IF(C64=0,0,(MAX(0,(B64-(B64/21*(VLOOKUP($B$12,Tabellen!$E$2:$F$2,2,FALSE)-C64)))))) -> 122.4 | E64: =D64/(2*C64*A64) -> 0.054545455 | F64: =E64*G12 -> 0.010909091 | G64: =IF(F64<0.1,"ok","niet ok") -> ok | H64: =E64+I12 -> 0.15454545 | I64: =IF(E64*1.2>H64,"ok","niet ok") -> niet ok | J64: =F64 -> 0.010909091
A65: 52 | B65: =IF(NOT(ISBLANK(A65)),VLOOKUP(A65,Tabellen!$A$2:$B$152,2,FALSE),"") -> 126 | C65: 22 | D65: =IF(C65=0,0,(MAX(0,(B65-(B65/21*(VLOOKUP($B$12,Tabellen!$E$2:$F$2,2,FALSE)-C65)))))) -> 126 | E65: =D65/(2*C65*A65) -> 0.05506993 | F65: =E65*G12 -> 0.011013986 | G65: =IF(F65<0.1,"ok","niet ok") -> ok | H65: =E65+I12 -> 0.15506993 | I65: =IF(E65*1.2>H65,"ok","niet ok") -> niet ok | J65: =F65 -> 0.011013986
A66: 53 | B66: =IF(NOT(ISBLANK(A66)),VLOOKUP(A66,Tabellen!$A$2:$B$152,2,FALSE),"") -> 126 | C66: 22 | D66: =IF(C66=0,0,(MAX(0,(B66-(B66/21*(VLOOKUP($B$12,Tabellen!$E$2:$F$2,2,FALSE)-C66)))))) -> 126 | E66: =D66/(2*C66*A66) -> 0.054030875 | F66: =E66*G12 -> 0.010806175 | G66: =IF(F66<0.1,"ok","niet ok") -> ok | H66: =E66+I12 -> 0.15403087 | I66: =IF(E66*1.2>H66,"ok","niet ok") -> niet ok | J66: =F66 -> 0.010806175
A67: 54 | B67: =IF(NOT(ISBLANK(A67)),VLOOKUP(A67,Tabellen!$A$2:$B$152,2,FALSE),"") -> 126 | C67: 22 | D67: =IF(C67=0,0,(MAX(0,(B67-(B67/21*(VLOOKUP($B$12,Tabellen!$E$2:$F$2,2,FALSE)-C67)))))) -> 126 | E67: =D67/(2*C67*A67) -> 0.053030303 | F67: =E67*G12 -> 0.010606061 | G67: =IF(F67<0.1,"ok","niet ok") -> ok | H67: =E67+I12 -> 0.1530303 | I67: =IF(E67*1.2>H67,"ok","niet ok") -> niet ok | J67: =F67 -> 0.010606061
A68: 55 | B68: =IF(NOT(ISBLANK(A68)),VLOOKUP(A68,Tabellen!$A$2:$B$152,2,FALSE),"") -> 130.2 | C68: 22 | D68: =IF(C68=0,0,(MAX(0,(B68-(B68/21*(VLOOKUP($B$12,Tabellen!$E$2:$F$2,2,FALSE)-C68)))))) -> 130.2 | E68: =D68/(2*C68*A68) -> 0.053801653 | F68: =E68*G12 -> 0.010760331 | G68: =IF(F68<0.1,"ok","niet ok") -> ok | H68: =E68+I12 -> 0.15380165 | I68: =IF(E68*1.2>H68,"ok","niet ok") -> niet ok | J68: =F68 -> 0.010760331
A69: 56 | B69: =IF(NOT(ISBLANK(A69)),VLOOKUP(A69,Tabellen!$A$2:$B$152,2,FALSE),"") -> 130.2 | C69: 22 | D69: =IF(C69=0,0,(MAX(0,(B69-(B69/21*(VLOOKUP($B$12,Tabellen!$E$2:$F$2,2,FALSE)-C69)))))) -> 130.2 | E69: =D69/(2*C69*A69) -> 0.052840909 | F69: =E69*G12 -> 0.010568182 | G69: =IF(F69<0.1,"ok","niet ok") -> ok | H69: =E69+I12 -> 0.15284091 | I69: =IF(E69*1.2>H69,"ok","niet ok") -> niet ok | J69: =F69 -> 0.010568182
A70: 57 | B70: =IF(NOT(ISBLANK(A70)),VLOOKUP(A70,Tabellen!$A$2:$B$152,2,FALSE),"") -> 130.2 | C70: 22 | D70: =IF(C70=0,0,(MAX(0,(B70-(B70/21*(VLOOKUP($B$12,Tabellen!$E$2:$F$2,2,FALSE)-C70)))))) -> 130.2 | E70: =D70/(2*C70*A70) -> 0.051913876 | F70: =E70*G12 -> 0.010382775 | G70: =IF(F70<0.1,"ok","niet ok") -> ok | H70: =E70+I12 -> 0.15191388 | I70: =IF(E70*1.2>H70,"ok","niet ok") -> niet ok | J70: =F70 -> 0.010382775
A71: 58 | B71: =IF(NOT(ISBLANK(A71)),VLOOKUP(A71,Tabellen!$A$2:$B$152,2,FALSE),"") -> 133.8 | C71: 22 | D71: =IF(C71=0,0,(MAX(0,(B71-(B71/21*(VLOOKUP($B$12,Tabellen!$E$2:$F$2,2,FALSE)-C71)))))) -> 133.8 | E71: =D71/(2*C71*A71) -> 0.052429467 | F71: =E71*G12 -> 0.010485893 | G71: =IF(F71<0.1,"ok","niet ok") -> ok | H71: =E71+I12 -> 0.15242947 | I71: =IF(E71*1.2>H71,"ok","niet ok") -> niet ok | J71: =F71 -> 0.010485893
A72: 59 | B72: =IF(NOT(ISBLANK(A72)),VLOOKUP(A72,Tabellen!$A$2:$B$152,2,FALSE),"") -> 133.8 | C72: 22 | D72: =IF(C72=0,0,(MAX(0,(B72-(B72/21*(VLOOKUP($B$12,Tabellen!$E$2:$F$2,2,FALSE)-C72)))))) -> 133.8 | E72: =D72/(2*C72*A72) -> 0.051540832 | F72: =E72*G12 -> 0.010308166 | G72: =IF(F72<0.1,"ok","niet ok") -> ok | H72: =E72+I12 -> 0.15154083 | I72: =IF(E72*1.2>H72,"ok","niet ok") -> niet ok | J72: =F72 -> 0.010308166
A73: 60 | B73: =IF(NOT(ISBLANK(A73)),VLOOKUP(A73,Tabellen!$A$2:$B$152,2,FALSE),"") -> 133.8 | C73: 22 | D73: =IF(C73=0,0,(MAX(0,(B73-(B73/21*(VLOOKUP($B$12,Tabellen!$E$2:$F$2,2,FALSE)-C73)))))) -> 133.8 | E73: =D73/(2*C73*A73) -> 0.050681818 | F73: =E73*G12 -> 0.010136364 | G73: =IF(F73<0.1,"ok","niet ok") -> ok | H73: =E73+I12 -> 0.15068182 | I73: =IF(E73*1.2>H73,"ok","niet ok") -> niet ok | J73: =F73 -> 0.010136364
A74: 61 | B74: =IF(NOT(ISBLANK(A74)),VLOOKUP(A74,Tabellen!$A$2:$B$152,2,FALSE),"") -> 138.6 | C74: 22 | D74: =IF(C74=0,0,(MAX(0,(B74-(B74/21*(VLOOKUP($B$12,Tabellen!$E$2:$F$2,2,FALSE)-C74)))))) -> 138.6 | E74: =D74/(2*C74*A74) -> 0.051639344 | F74: =E74*G12 -> 0.010327869 | G74: =IF(F74<0.1,"ok","niet ok") -> ok | H74: =E74+I12 -> 0.15163934 | I74: =IF(E74*1.2>H74,"ok","niet ok") -> niet ok | J74: =F74 -> 0.010327869
A75: 62 | B75: =IF(NOT(ISBLANK(A75)),VLOOKUP(A75,Tabellen!$A$2:$B$152,2,FALSE),"") -> 138.6 | C75: 22 | D75: =IF(C75=0,0,(MAX(0,(B75-(B75/21*(VLOOKUP($B$12,Tabellen!$E$2:$F$2,2,FALSE)-C75)))))) -> 138.6 | E75: =D75/(2*C75*A75) -> 0.050806452 | F75: =E75*G12 -> 0.01016129 | G75: =IF(F75<0.1,"ok","niet ok") -> ok | H75: =E75+I12 -> 0.15080645 | I75: =IF(E75*1.2>H75,"ok","niet ok") -> niet ok | J75: =F75 -> 0.01016129
A76: 63 | B76: =IF(NOT(ISBLANK(A76)),VLOOKUP(A76,Tabellen!$A$2:$B$152,2,FALSE),"") -> 138.6 | C76: 22 | D76: =IF(C76=0,0,(MAX(0,(B76-(B76/21*(VLOOKUP($B$12,Tabellen!$E$2:$F$2,2,FALSE)-C76)))))) -> 138.6 | E76: =D76/(2*C76*A76) -> 0.05 | F76: =E76*G12 -> 0.01 | G76: =IF(F76<0.1,"ok","niet ok") -> ok | H76: =E76+I12 -> 0.15 | I76: =IF(E76*1.2>H76,"ok","niet ok") -> niet ok | J76: =F76 -> 0.01
A77: 64 | B77: =IF(NOT(ISBLANK(A77)),VLOOKUP(A77,Tabellen!$A$2:$B$152,2,FALSE),"") -> 138.6 | C77: 22 | D77: =IF(C77=0,0,(MAX(0,(B77-(B77/21*(VLOOKUP($B$12,Tabellen!$E$2:$F$2,2,FALSE)-C77)))))) -> 138.6 | E77: =D77/(2*C77*A77) -> 0.04921875 | F77: =E77*G12 -> 0.00984375 | G77: =IF(F77<0.1,"ok","niet ok") -> ok | H77: =E77+I12 -> 0.14921875 | I77: =IF(E77*1.2>H77,"ok","niet ok") -> niet ok | J77: =F77 -> 0.00984375
A78: 65 | B78: =IF(NOT(ISBLANK(A78)),VLOOKUP(A78,Tabellen!$A$2:$B$152,2,FALSE),"") -> 138.6 | C78: 22 | D78: =IF(C78=0,0,(MAX(0,(B78-(B78/21*(VLOOKUP($B$12,Tabellen!$E$2:$F$2,2,FALSE)-C78)))))) -> 138.6 | E78: =D78/(2*C78*A78) -> 0.048461538 | F78: =E78*G12 -> 0.0096923077 | G78: =IF(F78<0.1,"ok","niet ok") -> ok | H78: =E78+I12 -> 0.14846154 | I78: =IF(E78*1.2>H78,"ok","niet ok") -> niet ok | J78: =F78 -> 0.0096923077
A79: 66 | B79: =IF(NOT(ISBLANK(A79)),VLOOKUP(A79,Tabellen!$A$2:$B$152,2,FALSE),"") -> 145.2 | C79: 22 | D79: =IF(C79=0,0,(MAX(0,(B79-(B79/21*(VLOOKUP($B$12,Tabellen!$E$2:$F$2,2,FALSE)-C79)))))) -> 145.2 | E79: =D79/(2*C79*A79) -> 0.05 | F79: =E79*G12 -> 0.01 | G79: =IF(F79<0.1,"ok","niet ok") -> ok | H79: =E79+I12 -> 0.15 | I79: =IF(E79*1.2>H79,"ok","niet ok") -> niet ok | J79: =F79 -> 0.01
A80: 67 | B80: =IF(NOT(ISBLANK(A80)),VLOOKUP(A80,Tabellen!$A$2:$B$152,2,FALSE),"") -> 145.2 | C80: 22 | D80: =IF(C80=0,0,(MAX(0,(B80-(B80/21*(VLOOKUP($B$12,Tabellen!$E$2:$F$2,2,FALSE)-C80)))))) -> 145.2 | E80: =D80/(2*C80*A80) -> 0.049253731 | F80: =E80*G12 -> 0.0098507463 | G80: =IF(F80<0.1,"ok","niet ok") -> ok | H80: =E80+I12 -> 0.14925373 | I80: =IF(E80*1.2>H80,"ok","niet ok") -> niet ok | J80: =F80 -> 0.0098507463
A81: 68 | B81: =IF(NOT(ISBLANK(A81)),VLOOKUP(A81,Tabellen!$A$2:$B$152,2,FALSE),"") -> 145.2 | C81: 22 | D81: =IF(C81=0,0,(MAX(0,(B81-(B81/21*(VLOOKUP($B$12,Tabellen!$E$2:$F$2,2,FALSE)-C81)))))) -> 145.2 | E81: =D81/(2*C81*A81) -> 0.048529412 | F81: =E81*G12 -> 0.0097058824 | G81: =IF(F81<0.1,"ok","niet ok") -> ok | H81: =E81+I12 -> 0.14852941 | I81: =IF(E81*1.2>H81,"ok","niet ok") -> niet ok | J81: =F81 -> 0.0097058824
A82: 69 | B82: =IF(NOT(ISBLANK(A82)),VLOOKUP(A82,Tabellen!$A$2:$B$152,2,FALSE),"") -> 145.2 | C82: 22 | D82: =IF(C82=0,0,(MAX(0,(B82-(B82/21*(VLOOKUP($B$12,Tabellen!$E$2:$F$2,2,FALSE)-C82)))))) -> 145.2 | E82: =D82/(2*C82*A82) -> 0.047826087 | F82: =E82*G12 -> 0.0095652174 | G82: =IF(F82<0.1,"ok","niet ok") -> ok | H82: =E82+I12 -> 0.14782609 | I82: =IF(E82*1.2>H82,"ok","niet ok") -> niet ok | J82: =F82 -> 0.0095652174
A83: 70 | B83: =IF(NOT(ISBLANK(A83)),VLOOKUP(A83,Tabellen!$A$2:$B$152,2,FALSE),"") -> 145.2 | C83: 22 | D83: =IF(C83=0,0,(MAX(0,(B83-(B83/21*(VLOOKUP($B$12,Tabellen!$E$2:$F$2,2,FALSE)-C83)))))) -> 145.2 | E83: =D83/(2*C83*A83) -> 0.047142857 | F83: =E83*G12 -> 0.0094285714 | G83: =IF(F83<0.1,"ok","niet ok") -> ok | H83: =E83+I12 -> 0.14714286 | I83: =IF(E83*1.2>H83,"ok","niet ok") -> niet ok | J83: =F83 -> 0.0094285714
A84: 71 | B84: =IF(NOT(ISBLANK(A84)),VLOOKUP(A84,Tabellen!$A$2:$B$152,2,FALSE),"") -> 151.2 | C84: 22 | D84: =IF(C84=0,0,(MAX(0,(B84-(B84/21*(VLOOKUP($B$12,Tabellen!$E$2:$F$2,2,FALSE)-C84)))))) -> 151.2 | E84: =D84/(2*C84*A84) -> 0.048399488 | F84: =E84*G12 -> 0.0096798976 | G84: =IF(F84<0.1,"ok","niet ok") -> ok | H84: =E84+I12 -> 0.14839949 | I84: =IF(E84*1.2>H84,"ok","niet ok") -> niet ok | J84: =F84 -> 0.0096798976
A85: 72 | B85: =IF(NOT(ISBLANK(A85)),VLOOKUP(A85,Tabellen!$A$2:$B$152,2,FALSE),"") -> 151.2 | C85: 22 | D85: =IF(C85=0,0,(MAX(0,(B85-(B85/21*(VLOOKUP($B$12,Tabellen!$E$2:$F$2,2,FALSE)-C85)))))) -> 151.2 | E85: =D85/(2*C85*A85) -> 0.047727273 | F85: =E85*G12 -> 0.0095454545 | G85: =IF(F85<0.1,"ok","niet ok") -> ok | H85: =E85+I12 -> 0.14772727 | I85: =IF(E85*1.2>H85,"ok","niet ok") -> niet ok | J85: =F85 -> 0.0095454545
A86: 73 | B86: =IF(NOT(ISBLANK(A86)),VLOOKUP(A86,Tabellen!$A$2:$B$152,2,FALSE),"") -> 151.2 | C86: 22 | D86: =IF(C86=0,0,(MAX(0,(B86-(B86/21*(VLOOKUP($B$12,Tabellen!$E$2:$F$2,2,FALSE)-C86)))))) -> 151.2 | E86: =D86/(2*C86*A86) -> 0.047073474 | F86: =E86*G12 -> 0.0094146949 | G86: =IF(F86<0.1,"ok","niet ok") -> ok | H86: =E86+I12 -> 0.14707347 | I86: =IF(E86*1.2>H86,"ok","niet ok") -> niet ok | J86: =F86 -> 0.0094146949
A87: 74 | B87: =IF(NOT(ISBLANK(A87)),VLOOKUP(A87,Tabellen!$A$2:$B$152,2,FALSE),"") -> 151.2 | C87: 22 | D87: =IF(C87=0,0,(MAX(0,(B87-(B87/21*(VLOOKUP($B$12,Tabellen!$E$2:$F$2,2,FALSE)-C87)))))) -> 151.2 | E87: =D87/(2*C87*A87) -> 0.046437346 | F87: =E87*G12 -> 0.0092874693 | G87: =IF(F87<0.1,"ok","niet ok") -> ok | H87: =E87+I12 -> 0.14643735 | I87: =IF(E87*1.2>H87,"ok","niet ok") -> niet ok | J87: =F87 -> 0.0092874693
A88: 75 | B88: =IF(NOT(ISBLANK(A88)),VLOOKUP(A88,Tabellen!$A$2:$B$152,2,FALSE),"") -> 151.2 | C88: 22 | D88: =IF(C88=0,0,(MAX(0,(B88-(B88/21*(VLOOKUP($B$12,Tabellen!$E$2:$F$2,2,FALSE)-C88)))))) -> 151.2 | E88: =D88/(2*C88*A88) -> 0.045818182 | F88: =E88*G12 -> 0.0091636364 | G88: =IF(F88<0.1,"ok","niet ok") -> ok | H88: =E88+I12 -> 0.14581818 | I88: =IF(E88*1.2>H88,"ok","niet ok") -> niet ok | J88: =F88 -> 0.0091636364
A89: 76 | B89: =IF(NOT(ISBLANK(A89)),VLOOKUP(A89,Tabellen!$A$2:$B$152,2,FALSE),"") -> 157.8 | C89: 22 | D89: =IF(C89=0,0,(MAX(0,(B89-(B89/21*(VLOOKUP($B$12,Tabellen!$E$2:$F$2,2,FALSE)-C89)))))) -> 157.8 | E89: =D89/(2*C89*A89) -> 0.047188995 | F89: =E89*G12 -> 0.009437799 | G89: =IF(F89<0.1,"ok","niet ok") -> ok | H89: =E89+I12 -> 0.147189 | I89: =IF(E89*1.2>H89,"ok","niet ok") -> niet ok | J89: =F89 -> 0.009437799
A90: 77 | B90: =IF(NOT(ISBLANK(A90)),VLOOKUP(A90,Tabellen!$A$2:$B$152,2,FALSE),"") -> 157.8 | C90: 22 | D90: =IF(C90=0,0,(MAX(0,(B90-(B90/21*(VLOOKUP($B$12,Tabellen!$E$2:$F$2,2,FALSE)-C90)))))) -> 157.8 | E90: =D90/(2*C90*A90) -> 0.046576151 | F90: =E90*G12 -> 0.0093152302 | G90: =IF(F90<0.1,"ok","niet ok") -> ok | H90: =E90+I12 -> 0.14657615 | I90: =IF(E90*1.2>H90,"ok","niet ok") -> niet ok | J90: =F90 -> 0.0093152302
A91: 78 | B91: =IF(NOT(ISBLANK(A91)),VLOOKUP(A91,Tabellen!$A$2:$B$152,2,FALSE),"") -> 157.8 | C91: 22 | D91: =IF(C91=0,0,(MAX(0,(B91-(B91/21*(VLOOKUP($B$12,Tabellen!$E$2:$F$2,2,FALSE)-C91)))))) -> 157.8 | E91: =D91/(2*C91*A91) -> 0.045979021 | F91: =E91*G12 -> 0.0091958042 | G91: =IF(F91<0.1,"ok","niet ok") -> ok | H91: =E91+I12 -> 0.14597902 | I91: =IF(E91*1.2>H91,"ok","niet ok") -> niet ok | J91: =F91 -> 0.0091958042
A92: 79 | B92: =IF(NOT(ISBLANK(A92)),VLOOKUP(A92,Tabellen!$A$2:$B$152,2,FALSE),"") -> 157.8 | C92: 22 | D92: =IF(C92=0,0,(MAX(0,(B92-(B92/21*(VLOOKUP($B$12,Tabellen!$E$2:$F$2,2,FALSE)-C92)))))) -> 157.8 | E92: =D92/(2*C92*A92) -> 0.045397008 | F92: =E92*G12 -> 0.0090794016 | G92: =IF(F92<0.1,"ok","niet ok") -> ok | H92: =E92+I12 -> 0.14539701 | I92: =IF(E92*1.2>H92,"ok","niet ok") -> niet ok | J92: =F92 -> 0.0090794016
A93: 80 | B93: =IF(NOT(ISBLANK(A93)),VLOOKUP(A93,Tabellen!$A$2:$B$152,2,FALSE),"") -> 157.8 | C93: 22 | D93: =IF(C93=0,0,(MAX(0,(B93-(B93/21*(VLOOKUP($B$12,Tabellen!$E$2:$F$2,2,FALSE)-C93)))))) -> 157.8 | E93: =D93/(2*C93*A93) -> 0.044829545 | F93: =E93*G12 -> 0.0089659091 | G93: =IF(F93<0.1,"ok","niet ok") -> ok | H93: =E93+I12 -> 0.14482955 | I93: =IF(E93*1.2>H93,"ok","niet ok") -> niet ok | J93: =F93 -> 0.0089659091
A94: 81 | B94: =IF(NOT(ISBLANK(A94)),VLOOKUP(A94,Tabellen!$A$2:$B$152,2,FALSE),"") -> 163.8 | C94: 22 | D94: =IF(C94=0,0,(MAX(0,(B94-(B94/21*(VLOOKUP($B$12,Tabellen!$E$2:$F$2,2,FALSE)-C94)))))) -> 163.8 | E94: =D94/(2*C94*A94) -> 0.045959596 | F94: =E94*G12 -> 0.0091919192 | G94: =IF(F94<0.1,"ok","niet ok") -> ok | H94: =E94+I12 -> 0.1459596 | I94: =IF(E94*1.2>H94,"ok","niet ok") -> niet ok | J94: =F94 -> 0.0091919192
A95: 82 | B95: =IF(NOT(ISBLANK(A95)),VLOOKUP(A95,Tabellen!$A$2:$B$152,2,FALSE),"") -> 163.8 | C95: 22 | D95: =IF(C95=0,0,(MAX(0,(B95-(B95/21*(VLOOKUP($B$12,Tabellen!$E$2:$F$2,2,FALSE)-C95)))))) -> 163.8 | E95: =D95/(2*C95*A95) -> 0.045399113 | F95: =E95*G12 -> 0.0090798226 | G95: =IF(F95<0.1,"ok","niet ok") -> ok | H95: =E95+I12 -> 0.14539911 | I95: =IF(E95*1.2>H95,"ok","niet ok") -> niet ok | J95: =F95 -> 0.0090798226
A96: 83 | B96: =IF(NOT(ISBLANK(A96)),VLOOKUP(A96,Tabellen!$A$2:$B$152,2,FALSE),"") -> 163.8 | C96: 22 | D96: =IF(C96=0,0,(MAX(0,(B96-(B96/21*(VLOOKUP($B$12,Tabellen!$E$2:$F$2,2,FALSE)-C96)))))) -> 163.8 | E96: =D96/(2*C96*A96) -> 0.044852136 | F96: =E96*G12 -> 0.0089704272 | G96: =IF(F96<0.1,"ok","niet ok") -> ok | H96: =E96+I12 -> 0.14485214 | I96: =IF(E96*1.2>H96,"ok","niet ok") -> niet ok | J96: =F96 -> 0.0089704272
A97: 84 | B97: =IF(NOT(ISBLANK(A97)),VLOOKUP(A97,Tabellen!$A$2:$B$152,2,FALSE),"") -> 163.8 | C97: 22 | D97: =IF(C97=0,0,(MAX(0,(B97-(B97/21*(VLOOKUP($B$12,Tabellen!$E$2:$F$2,2,FALSE)-C97)))))) -> 163.8 | E97: =D97/(2*C97*A97) -> 0.044318182 | F97: =E97*G12 -> 0.0088636364 | G97: =IF(F97<0.1,"ok","niet ok") -> ok | H97: =E97+I12 -> 0.14431818 | I97: =IF(E97*1.2>H97,"ok","niet ok") -> niet ok | J97: =F97 -> 0.0088636364
A98: 85 | B98: =IF(NOT(ISBLANK(A98)),VLOOKUP(A98,Tabellen!$A$2:$B$152,2,FALSE),"") -> 163.8 | C98: 22 | D98: =IF(C98=0,0,(MAX(0,(B98-(B98/21*(VLOOKUP($B$12,Tabellen!$E$2:$F$2,2,FALSE)-C98)))))) -> 163.8 | E98: =D98/(2*C98*A98) -> 0.043796791 | F98: =E98*G12 -> 0.0087593583 | G98: =IF(F98<0.1,"ok","niet ok") -> ok | H98: =E98+I12 -> 0.14379679 | I98: =IF(E98*1.2>H98,"ok","niet ok") -> niet ok | J98: =F98 -> 0.0087593583
A99: 86 | B99: =IF(NOT(ISBLANK(A99)),VLOOKUP(A99,Tabellen!$A$2:$B$152,2,FALSE),"") -> 169.8 | C99: 22 | D99: =IF(C99=0,0,(MAX(0,(B99-(B99/21*(VLOOKUP($B$12,Tabellen!$E$2:$F$2,2,FALSE)-C99)))))) -> 169.8 | E99: =D99/(2*C99*A99) -> 0.04487315 | F99: =E99*G12 -> 0.00897463 | G99: =IF(F99<0.1,"ok","niet ok") -> ok | H99: =E99+I12 -> 0.14487315 | I99: =IF(E99*1.2>H99,"ok","niet ok") -> niet ok | J99: =F99 -> 0.00897463
A100: 87 | B100: =IF(NOT(ISBLANK(A100)),VLOOKUP(A100,Tabellen!$A$2:$B$152,2,FALSE),"") -> 169.8 | C100: 22 | D100: =IF(C100=0,0,(MAX(0,(B100-(B100/21*(VLOOKUP($B$12,Tabellen!$E$2:$F$2,2,FALSE)-C100)))))) -> 169.8 | E100: =D100/(2*C100*A100) -> 0.044357367 | F100: =E100*G12 -> 0.0088714734 | G100: =IF(F100<0.1,"ok","niet ok") -> ok | H100: =E100+I12 -> 0.14435737 | I100: =IF(E100*1.2>H100,"ok","niet ok") -> niet ok | J100: =F100 -> 0.0088714734
A101: 88 | B101: =IF(NOT(ISBLANK(A101)),VLOOKUP(A101,Tabellen!$A$2:$B$152,2,FALSE),"") -> 169.8 | C101: 22 | D101: =IF(C101=0,0,(MAX(0,(B101-(B101/21*(VLOOKUP($B$12,Tabellen!$E$2:$F$2,2,FALSE)-C101)))))) -> 169.8 | E101: =D101/(2*C101*A101) -> 0.043853306 | F101: =E101*G12 -> 0.0087706612 | G101: =IF(F101<0.1,"ok","niet ok") -> ok | H101: =E101+I12 -> 0.14385331 | I101: =IF(E101*1.2>H101,"ok","niet ok") -> niet ok | J101: =F101 -> 0.0087706612
A102: 89 | B102: =IF(NOT(ISBLANK(A102)),VLOOKUP(A102,Tabellen!$A$2:$B$152,2,FALSE),"") -> 169.8 | C102: 22 | D102: =IF(C102=0,0,(MAX(0,(B102-(B102/21*(VLOOKUP($B$12,Tabellen!$E$2:$F$2,2,FALSE)-C102)))))) -> 169.8 | E102: =D102/(2*C102*A102) -> 0.043360572 | F102: =E102*G12 -> 0.0086721144 | G102: =IF(F102<0.1,"ok","niet ok") -> ok | H102: =E102+I12 -> 0.14336057 | I102: =IF(E102*1.2>H102,"ok","niet ok") -> niet ok | J102: =F102 -> 0.0086721144
A103: 90 | B103: =IF(NOT(ISBLANK(A103)),VLOOKUP(A103,Tabellen!$A$2:$B$152,2,FALSE),"") -> 169.8 | C103: 22 | D103: =IF(C103=0,0,(MAX(0,(B103-(B103/21*(VLOOKUP($B$12,Tabellen!$E$2:$F$2,2,FALSE)-C103)))))) -> 169.8 | E103: =D103/(2*C103*A103) -> 0.042878788 | F103: =E103*G12 -> 0.0085757576 | G103: =IF(F103<0.1,"ok","niet ok") -> ok | H103: =E103+I12 -> 0.14287879 | I103: =IF(E103*1.2>H103,"ok","niet ok") -> niet ok | J103: =F103 -> 0.0085757576
A104: 91 | B104: =IF(NOT(ISBLANK(A104)),VLOOKUP(A104,Tabellen!$A$2:$B$152,2,FALSE),"") -> 176.4 | C104: 22 | D104: =IF(C104=0,0,(MAX(0,(B104-(B104/21*(VLOOKUP($B$12,Tabellen!$E$2:$F$2,2,FALSE)-C104)))))) -> 176.4 | E104: =D104/(2*C104*A104) -> 0.044055944 | F104: =E104*G12 -> 0.0088111888 | G104: =IF(F104<0.1,"ok","niet ok") -> ok | H104: =E104+I12 -> 0.14405594 | I104: =IF(E104*1.2>H104,"ok","niet ok") -> niet ok | J104: =F104 -> 0.0088111888
A105: 92 | B105: =IF(NOT(ISBLANK(A105)),VLOOKUP(A105,Tabellen!$A$2:$B$152,2,FALSE),"") -> 176.4 | C105: 22 | D105: =IF(C105=0,0,(MAX(0,(B105-(B105/21*(VLOOKUP($B$12,Tabellen!$E$2:$F$2,2,FALSE)-C105)))))) -> 176.4 | E105: =D105/(2*C105*A105) -> 0.043577075 | F105: =E105*G12 -> 0.008715415 | G105: =IF(F105<0.1,"ok","niet ok") -> ok | H105: =E105+I12 -> 0.14357708 | I105: =IF(E105*1.2>H105,"ok","niet ok") -> niet ok | J105: =F105 -> 0.008715415
A106: 93 | B106: =IF(NOT(ISBLANK(A106)),VLOOKUP(A106,Tabellen!$A$2:$B$152,2,FALSE),"") -> 176.4 | C106: 22 | D106: =IF(C106=0,0,(MAX(0,(B106-(B106/21*(VLOOKUP($B$12,Tabellen!$E$2:$F$2,2,FALSE)-C106)))))) -> 176.4 | E106: =D106/(2*C106*A106) -> 0.043108504 | F106: =E106*G12 -> 0.0086217009 | G106: =IF(F106<0.1,"ok","niet ok") -> ok | H106: =E106+I12 -> 0.1431085 | I106: =IF(E106*1.2>H106,"ok","niet ok") -> niet ok | J106: =F106 -> 0.0086217009
A107: 94 | B107: =IF(NOT(ISBLANK(A107)),VLOOKUP(A107,Tabellen!$A$2:$B$152,2,FALSE),"") -> 176.4 | C107: 22 | D107: =IF(C107=0,0,(MAX(0,(B107-(B107/21*(VLOOKUP($B$12,Tabellen!$E$2:$F$2,2,FALSE)-C107)))))) -> 176.4 | E107: =D107/(2*C107*A107) -> 0.042649903 | F107: =E107*G12 -> 0.0085299807 | G107: =IF(F107<0.1,"ok","niet ok") -> ok | H107: =E107+I12 -> 0.1426499 | I107: =IF(E107*1.2>H107,"ok","niet ok") -> niet ok | J107: =F107 -> 0.0085299807
A108: 95 | B108: =IF(NOT(ISBLANK(A108)),VLOOKUP(A108,Tabellen!$A$2:$B$152,2,FALSE),"") -> 176.4 | C108: 22 | D108: =IF(C108=0,0,(MAX(0,(B108-(B108/21*(VLOOKUP($B$12,Tabellen!$E$2:$F$2,2,FALSE)-C108)))))) -> 176.4 | E108: =D108/(2*C108*A108) -> 0.042200957 | F108: =E108*G12 -> 0.0084401914 | G108: =IF(F108<0.1,"ok","niet ok") -> ok | H108: =E108+I12 -> 0.14220096 | I108: =IF(E108*1.2>H108,"ok","niet ok") -> niet ok | J108: =F108 -> 0.0084401914
...

Sheet Tabellen
A1: enkele afstand | B1: tussenkomst | E1: maand | F1: # werkdagen
A2: 1 | B2: 28.5 | E2: April | F2: 22
A3: 2 | B3: 28.5
A4: 3 | B4: 28.5
A5: 4 | B5: 31.2
A6: 5 | B6: 33.6
A7: 6 | B7: 36 | E7: vergoeding is gebaseerd op op % standaard maandabonnement NMBS
A8: 7 | B8: 37.8 | E8: voor de periode van februari tot en met januari van het volgende jaar
A9: 8 | B9: 40.2
A10: 9 | B10: 42
A11: 10 | B11: 44.4 | E11: # dagen zijn weekdagen / maand
A12: 11 | B12: 46.8 | E12: tool is dus enkel te gebruiken voor 5-daagse werkweek
A13: 12 | B13: 48.6
A14: 13 | B14: 51
A15: 14 | B15: 52.8 | E15: disclaimer:
A16: 15 | B16: 55.2 | E16: deze tool wordt door Sociare aangeboden aan haar leden
A17: 16 | B17: 57 | E17: gebruik onder verantwoordelijkheid van de gebruiker
A18: 17 | B18: 59.4
A19: 18 | B19: 61.8
A20: 19 | B20: 63.6
A21: 20 | B21: 66
A22: 21 | B22: 67.8
A23: 22 | B23: 70.2
A24: 23 | B24: 72
A25: 24 | B25: 74.4
A26: 25 | B26: 76.8
A27: 26 | B27: 78.6
A28: 27 | B28: 81
A29: 28 | B29: 82.8
... A151: 150 | B151: 207.6
