Workbook

Sheet berekening 
A2: SIMULATIE TUSSENKOMST WOON-WERK IFV MAX BRANDSTOFTOESLAG
A3: PERIODE 01/05/2026 - 31/07/2026 | H3: PARITAIR COMITE 329.01
A4: 5-daagse werkweek
A12: Maand | B12: April | G12: 0.2 | I12: 0.1
A13: afstand woon-werk enkel | B13: maand-bedrag | C13: # dagen met auto naar werk | D13: Tussenkomst woon-werk in maand | E13: Ref.bedrag (€/km) | F13: Percentage op ref.bedrag | G13: Respectering max +0,10 € | H13: Toeslag + ref.bedrag | I13: Respectering max 20% | J13: Maximale toeslag (€/km)
A14: 1 | B14: =IF(NOT(ISBLANK(A14)),VLOOKUP(A14,Tabellen!$A$2:$B$152,2,FALSE),"") -> 28.5 | C14: 22 | D14: =IF(C14=0,0,(MAX(0,(B14-(B14/21*(VLOOKUP($B$12,Tabellen!$E$2:$F$2,2,FALSE)-C14)))))) -> 28.5 | E14: =D14/(2*C14*A14) -> 0.64772727 | F14: =E14*G12 -> 0.12954545 | G14: =IF(F14<0.1,"ok","niet ok") -> niet ok | H14: =E14+I12 -> 0.74772727 | I14: =IF(E14*1.2>H14,"ok","niet ok") -> ok | J14: =H14-E14 -> 0.1
A15: 2 | B15: =IF(NOT(ISBLANK(A15)),VLOOKUP(A15,Tabellen!$A$2:$B$152,2,FALSE),"") -> 28.5 | C15: 22 | D15: =IF(C15=0,0,(MAX(0,(B15-(B15/21*(VLOOKUP($B$12,Tabellen!$E$2:$F$2,2,FALSE)-C15)))))) -> 28.5 | E15: =D15/(2*C15*A15) -> 0.32386364 | F15: =E15*G12 -> 0.064772727 | G15: =IF(F15<0.1,"ok","niet ok") -> ok | H15: =E15+I12 -> 0.42386364 | I15: =IF(E15*1.2>H15,"ok","niet ok") -> niet ok | J15: =F15 -> 0.064772727
A16: 3 | B16: =IF(NOT(ISBLANK(A16)),VLOOKUP(A16,Tabellen!$A$2:$B$152,2,FALSE),"") -> 28.5 | C16: 22 | D16: =IF(C16=0,0,(MAX(0,(B16-(B16/21*(VLOOKUP($B$12,Tabellen!$E$2:$F$2,2,FALSE)-C16)))))) -> 28.5 | E16: =D16/(2*C16*A16) -> 0.21590909 | F16: =E16*G12 -> 0.043181818 | G16: =IF(F16<0.1,"ok","niet ok") -> ok | H16: =E16+I12 -> 0.31590909 | I16: =IF(E16*1.2>H16,"ok","niet ok") -> niet ok | J16: =F16 -> 0.043181818
A17: 4 | B17: =IF(NOT(ISBLANK(A17)),VLOOKUP(A17,Tabellen!$A$2:$B$152,2,FALSE),"") -> 31.2 | C17: 22 | D17: =IF(C17=0,0,(MAX(0,(B17-(B17/21*(VLOOKUP($B$12,Tabellen!$E$2:$F$2,2,FALSE)-C17)))))) -> 31.2 | E17: =D17/(2*C17*A17) -> 0.17727273 | F17: =E17*G12 -> 0.035454545 | G17: =IF(F17<0.1,"ok","niet ok") -> ok | H17: =E17+I12 -> 0.27727273 | I17: =IF(E17*1.2>H17,"ok","niet ok") -> niet ok | J17: =F17 -> 0.035454545
A18: 5 | B18: =IF(NOT(ISBLANK(A18)),VLOOKUP(A18,Tabellen!$A$2:$B$152,2,FALSE),"") -> 33.6 | C18: 22 | D18: =IF(C18=0,0,(MAX(0,(B18-(B18/21*(VLOOKUP($B$12,Tabellen!$E$2:$F$2,2,FALSE)-C18)))))) -> 33.6 | E18: =D18/(2*C18*A18) -> 0.15272727 | F18: =E18*G12 -> 0.030545455 | G18: =IF(F18<0.1,"ok","niet ok") -> ok | H18: =E18+I12 -> 0.25272727 | I18: =IF(E18*1.2>H18,"ok","niet ok") -> niet ok | J18: =F18 -> 0.030545455
A19: 6 | B19: =IF(NOT(ISBLANK(A19)),VLOOKUP(A19,Tabellen!$A$2:$B$152,2,FALSE),"") -> 36 | C19: 22 | D19: =IF(C19=0,0,(MAX(0,(B19-(B19/21*(VLOOKUP($B$12,Tabellen!$E$2:$F$2,2,FALSE)-C19)))))) -> 36 | E19: =D19/(2*C19*A19) -> 0.13636364 | F19: =E19*G12 -> 0.027272727 | G19: =IF(F19<0.1,"ok","niet ok") -> ok | H19: =E19+I12 -> 0.23636364 | I19: =IF(E19*1.2>H19,"ok","niet ok") -> niet ok | J19: =F19 -> 0.027272727
A20: 7 | B20: =IF(NOT(ISBLANK(A20)),VLOOKUP(A20,Tabellen!$A$2:$B$152,2,FALSE),"") -> 37.8 | C20: 22 | D20: =IF(C20=0,0,(MAX(0,(B20-(B20/21*(VLOOKUP($B$12,Tabellen!$E$2:$F$2,2,FALSE)-C20)))))) -> 37.8 | E20: =D20/(2*C20*A20) -> 0.12272727 | F20: =E20*G12 -> 0.024545455 | G20: =IF(F20<0.1,"ok","niet ok") -> ok | H20: =E20+I12 -> 0.22272727 | I20: =IF(E20*1.2>H20,"ok","niet ok") -> niet ok | J20: =F20 -> 0.024545455
A21: 8 | B21: =IF(NOT(ISBLANK(A21)),VLOOKUP(A21,Tabellen!$A$2:$B$152,2,FALSE),"") -> 40.2 | C21: 22 | D21: =IF(C21=0,0,(MAX(0,(B21-(B21/21*(VLOOKUP($B$12,Tabellen!$E$2:$F$2,2,FALSE)-C21)))))) -> 40.2 | E21: =D21/(2*C21*A21) -> 0.11420455 | F21: =E21*G12 -> 0.022840909 | G21: =IF(F21<0.1,"ok","niet ok") -> ok | H21: =E21+I12 -> 0.21420455 | I21: =IF(E21*1.2>H21,"ok","niet ok") -> niet ok | J21: =F21 -> 0.022840909
A22: 9 | B22: =IF(NOT(ISBLANK(A22)),VLOOKUP(A22,Tabellen!$A$2:$B$152,2,FALSE),"") -> 42 | C22: 22 | D22: =IF(C22=0,0,(MAX(0,(B22-(B22/21*(VLOOKUP($B$12,Tabellen!$E$2:$F$2,2,FALSE)-C22)))))) -> 42 | E22: =D22/(2*C22*A22) -> 0.10606061 | F22: =E22*G12 -> 0.021212121 | G22: =IF(F22<0.1,"ok","niet ok") -> ok | H22: =E22+I12 -> 0.20606061 | I22: =IF(E22*1.2>H22,"ok","niet ok") -> niet ok | J22: =F22 -> 0.021212121
A23: 10 | B23: =IF(NOT(ISBLANK(A23)),VLOOKUP(A23,Tabellen!$A$2:$B$152,2,FALSE),"") -> 44.4 | C23: 22 | D23: =IF(C23=0,0,(MAX(0,(B23-(B23/21*(VLOOKUP($B$12,Tabellen!$E$2:$F$2,2,FALSE)-C23)))))) -> 44.4 | E23: =D23/(2*C23*A23) -> 0.10090909 | F23: =E23*G12 -> 0.020181818 | G23: =IF(F23<0.1,"ok","niet ok") -> ok | H23: =E23+I12 -> 0.20090909 | I23: =IF(E23*1.2>H23,"ok","niet ok") -> niet ok | J23: =F23 -> 0.020181818
A24: 11 | B24: =IF(NOT(ISBLANK(A24)),VLOOKUP(A24,Tabellen!$A$2:$B$152,2,FALSE),"") -> 46.8 | C24: 22 | D24: =IF(C24=0,0,(MAX(0,(B24-(B24/21*(VLOOKUP($B$12,Tabellen!$E$2:$F$2,2,FALSE)-C24)))))) -> 46.8 | E24: =D24/(2*C24*A24) -> 0.096694215 | F24: =E24*G12 -> 0.019338843 | G24: =IF(F24<0.1,"ok","niet ok") -> ok | H24: =E24+I12 -> 0.19669421 | I24: =IF(E24*1.2>H24,"ok","niet ok") -> niet ok | J24: =F24 -> 0.019338843
A25: 12 | B25: =IF(NOT(ISBLANK(A25)),VLOOKUP(A25,Tabellen!$A$2:$B$152,2,FALSE),"") -> 48.6 | C25: 22 | D25: =IF(C25=0,0,(MAX(0,(B25-(B25/21*(VLOOKUP($B$12,Tabellen!$E$2:$F$2,2,FALSE)-C25)))))) -> 48.6 | E25: =D25/(2*C25*A25) -> 0.092045455 | F25: =E25*G12 -> 0.018409091 | G25: =IF(F25<0.1,"ok","niet ok") -> ok | H25: =E25+I12 -> 0.19204545 | I25: =IF(E25*1.2>H25,"ok","niet ok") -> niet ok | J25: =F25 -> 0.018409091
A26: 13 | B26: =IF(NOT(ISBLANK(A26)),VLOOKUP(A26,Tabellen!$A$2:$B$152,2,FALSE),"") -> 51 | C26: 22 | D26: =IF(C26=0,0,(MAX(0,(B26-(B26/21*(VLOOKUP($B$12,Tabellen!$E$2:$F$2,2,FALSE)-C26)))))) -> 51 | E26: =D26/(2*C26*A26) -> 0.089160839 | F26: =E26*G12 -> 0.017832168 | G26: =IF(F26<0.1,"ok","niet ok") -> ok | H26: =E26+I12 -> 0.18916084 | I26: =IF(E26*1.2>H26,"ok","niet ok") -> niet ok | J26: =F26 -> 0.017832168
A27: 14 | B27: =IF(NOT(ISBLANK(A27)),VLOOKUP(A27,Tabellen!$A$2:$B$152,2,FALSE),"") -> 52.8 | C27: 22 | D27: =IF(C27=0,0,(MAX(0,(B27-(B27/21*(VLOOKUP($B$12,Tabellen!$E$2:$F$2,2,FALSE)-C27)))))) -> 52.8 | E27: =D27/(2*C27*A27) -> 0.085714286 | F27: =E27*G12 -> 0.017142857 | G27: =IF(F27<0.1,"ok","niet ok") -> ok | H27: =E27+I12 -> 0.18571429 | I27: =IF(E27*1.2>H27,"ok","niet ok") -> niet ok | J27: =F27 -> 0.017142857
A28: 15 | B28: =IF(NOT(ISBLANK(A28)),VLOOKUP(A28,Tabellen!$A$2:$B$152,2,FALSE),"") -> 55.2 | C28: 22 | D28: =IF(C28=0,0,(MAX(0,(B28-(B28/21*(VLOOKUP($B$12,Tabellen!$E$2:$F$2,2,FALSE)-C28)))))) -> 55.2 | E28: =D28/(2*C28*A28) -> 0.083636364 | F28: =E28*G12 -> 0.016727273 | G28: =IF(F28<0.1,"ok","niet ok") -> ok | H28: =E28+I12 -> 0.18363636 | I28: =IF(E28*1.2>H28,"ok","niet ok") -> niet ok | J28: =F28 -> 0.016727273
A29: 16 | B29: =IF(NOT(ISBLANK(A29)),VLOOKUP(A29,Tabellen!$A$2:$B$152,2,FALSE),"") -> 57 | C29: 22 | D29: =IF(C29=0,0,(MAX(0,(B29-(B29/21*(VLOOKUP($B$12,Tabellen!$E$2:$F$2,2,FALSE)-C29)))))) -> 57 | E29: =D29/(2*C29*A29) -> 0.080965909 | F29: =E29*G12 -> 0.016193182 | G29: =IF(F29<0.1,"ok","niet ok") -> ok | H29: =E29+I12 -> 0.18096591 | I29: =IF(E29*1.2>H29,"ok","niet ok") -> niet ok | J29: =F29 -> 0.016193182
A30: 17 | B30: =IF(NOT(ISBLANK(A30)),VLOOKUP(A30,Tabellen!$A$2:$B$152,2,FALSE),"") -> 59.4 | C30: 22 | D30: =IF(C30=0,0,(MAX(0,(B30-(B30/21*(VLOOKUP($B$12,Tabellen!$E$2:$F$2,2,FALSE)-C30)))))) -> 59.4 | E30: =D30/(2*C30*A30) -> 0.079411765 | F30: =E30*G12 -> 0.015882353 | G30: =IF(F30<0.1,"ok","niet ok") -> ok | H30: =E30+I12 -> 0.17941176 | I30: =IF(E30*1.2>H30,"ok","niet ok") -> niet ok | J30: =F30 -> 0.015882353
A31: 18 | B31: =IF(NOT(ISBLANK(A31)),VLOOKUP(A31,Tabellen!$A$2:$B$152,2,FALSE),"") -> 61.8 | C31: 22 | D31: =IF(C31=0,0,(MAX(0,(B31-(B31/21*(VLOOKUP($B$12,Tabellen!$E$2:$F$2,2,FALSE)-C31)))))) -> 61.8 | E31: =D31/(2*C31*A31) -> 0.078030303 | F31: =E31*G12 -> 0.015606061 | G31: =IF(F31<0.1,"ok","niet ok") -> ok | H31: =E31+I12 -> 0.1780303 | I31: =IF(E31*1.2>H31,"ok","niet ok") -> niet ok | J31: =F31 -> 0.015606061
A32: 19 | B32: =IF(NOT(ISBLANK(A32)),VLOOKUP(A32,Tabellen!$A$2:$B$152,2,FALSE),"") -> 63.6 | C32: 22 | D32: =IF(C32=0,0,(MAX(0,(B32-(B32/21*(VLOOKUP($B$12,Tabellen!$E$2:$F$2,2,FALSE)-C32)))))) -> 63.6 | E32: =D32/(2*C32*A32) -> 0.076076555 | F32: =E32*G12 -> 0.015215311 | G32: =IF(F32<0.1,"ok","niet ok") -> ok | H32: =E32+I12 -> 0.17607656 | I32: =IF(E32*1.2>H32,"ok","niet ok") -> niet ok | J32: =F32 -> 0.015215311
A33: 20 | B33: =IF(NOT(ISBLANK(A33)),VLOOKUP(A33,Tabellen!$A$2:$B$152,2,FALSE),"") -> 66 | C33: 22 | D33: =IF(C33=0,0,(MAX(0,(B33-(B33/21*(VLOOKUP($B$12,Tabellen!$E$2:$F$2,2,FALSE)-C33)))))) -> 66 | E33: =D33/(2*C33*A33) -> 0.075 | F33: =E33*G12 -> 0.015 | G33: =IF(F33<0.1,"ok","niet ok") -> ok | H33: =E33+I12 -> 0.175 | I33: =IF(E33*1.2>H33,"ok","niet ok") -> niet ok | J33: =F33 -> 0.015
A34: 21 | B34: =IF(NOT(ISBLANK(A34)),VLOOKUP(A34,Tabellen!$A$2:$B$152,2,FALSE),"") -> 67.8 | C34: 22 | D34: =IF(C34=0,0,(MAX(0,(B34-(B34/21*(VLOOKUP($B$12,Tabellen!$E$2:$F$2,2,FALSE)-C34)))))) -> 67.8 | E34: =D34/(2*C34*A34) -> 0.073376623 | F34: =E34*G12 -> 0.014675325 | G34: =IF(F34<0.1,"ok","niet ok") -> ok | H34: =E34+I12 -> 0.17337662 | I34: =IF(E34*1.2>H34,"ok","niet ok") -> niet ok | J34: =F34 -> 0.014675325
A35: 22 | B35: =IF(NOT(ISBLANK(A35)),VLOOKUP(A35,Tabellen!$A$2:$B$152,2,FALSE),"") -> 70.2 | C35: 22 | D35: =IF(C35=0,0,(MAX(0,(B35-(B35/21*(VLOOKUP($B$12,Tabellen!$E$2:$F$2,2,FALSE)-C35)))))) -> 70.2 | E35: =D35/(2*C35*A35) -> 0.072520661 | F35: =E35*G12 -> 0.014504132 | G35: =IF(F35<0.1,"ok","niet ok") -> ok | H35: =E35+I12 -> 0.17252066 | I35: =IF(E35*1.2>H35,"ok","niet ok") -> niet ok | J35: =F35 -> 0.014504132
A36: 23 | B36: =IF(NOT(ISBLANK(A36)),VLOOKUP(A36,Tabellen!$A$2:$B$152,2,FALSE),"") -> 72 | C36: 22 | D36: =IF(C36=0,0,(MAX(0,(B36-(B36/21*(VLOOKUP($B$12,Tabellen!$E$2:$F$2,2,FALSE)-C36)))))) -> 72 | E36: =D36/(2*C36*A36) -> 0.071146245 | F36: =E36*G12 -> 0.014229249 | G36: =IF(F36<0.1,"ok","niet ok") -> ok | H36: =E36+I12 -> 0.17114625 | I36: =IF(E36*1.2>H36,"ok","niet ok") -> niet ok | J36: =F36 -> 0.014229249
A37: 24 | B37: =IF(NOT(ISBLANK(A37)),VLOOKUP(A37,Tabellen!$A$2:$B$152,2,FALSE),"") -> 74.4 | C37: 22 | D37: =IF(C37=0,0,(MAX(0,(B37-(B37/21*(VLOOKUP($B$12,Tabellen!$E$2:$F$2,2,FALSE)-C37)))))) -> 74.4 | E37: =D37/(2*C37*A37) -> 0.070454545 | F37: =E37*G12 -> 0.014090909 | G37: =IF(F37<0.1,"ok","niet ok") -> ok | H37: =E37+I12 -> 0.17045455 | I37: =IF(E37*1.2>H37,"ok","niet ok") -> niet ok | J37: =F37 -> 0.014090909
A38: 25 | B38: =IF(NOT(ISBLANK(A38)),VLOOKUP(A38,Tabellen!$A$2:$B$152,2,FALSE),"") -> 76.8 | C38: 22 | D38: =IF(C38=0,0,(MAX(0,(B38-(B38/21*(VLOOKUP($B$12,Tabellen!$E$2:$F$2,2,FALSE)-C38)))))) -> 76.8 | E38: =D38/(2*C38*A38) -> 0.069818182 | F38: =E38*G12 -> 0.013963636 | G38: =IF(F38<0.1,"ok","niet ok") -> ok | H38: =E38+I12 -> 0.16981818 | I38: =IF(E38*1.2>H38,"ok","niet ok") -> niet ok | J38: =F38 -> 0.013963636
A39: 26 | B39: =IF(NOT(ISBLANK(A39)),VLOOKUP(A39,Tabellen!$A$2:$B$152,2,FALSE),"") -> 78.6 | C39: 22 | D39: =IF(C39=0,0,(MAX(0,(B39-(B39/21*(VLOOKUP($B$12,Tabellen!$E$2:$F$2,2,FALSE)-C39)))))) -> 78.6 | E39: =D39/(2*C39*A39) -> 0.068706294 | F39: =E39*G12 -> 0.013741259 | G39: =IF(F39<0.1,"ok","niet ok") -> ok | H39: =E39+I12 -> 0.16870629 | I39: =IF(E39*1.2>H39,"ok","niet ok") -> niet ok | J39: =F39 -> 0.013741259
A40: 27 | B40: =IF(NOT(ISBLANK(A40)),VLOOKUP(A40,Tabellen!$A$2:$B$152,2,FALSE),"") -> 81 | C40: 22 | D40: =IF(C40=0,0,(MAX(0,(B40-(B40/21*(VLOOKUP($B$12,Tabellen!$E$2:$F$2,2,FALSE)-C40)))))) -> 81 | E40: =D40/(2*C40*A40) -> 0.068181818 | F40: =E40*G12 -> 0.013636364 | G40: =IF(F40<0.1,"ok","niet ok") -> ok | H40: =E40+I12 -> 0.16818182 | I40: =IF(E40*1.2>H40,"ok","niet ok") -> niet ok | J40: =F40 -> 0.013636364
A41: 28 | B41: =IF(NOT(ISBLANK(A41)),VLOOKUP(A41,Tabellen!$A$2:$B$152,2,FALSE),"") -> 82.8 | C41: 22 | D41: =IF(C41=0,0,(MAX(0,(B41-(B41/21*(VLOOKUP($B$12,Tabellen!$E$2:$F$2,2,FALSE)-C41)))))) -> 82.8 | E41: =D41/(2*C41*A41) -> 0.067207792 | F41: =E41*G12 -> 0.013441558 | G41: =IF(F41<0.1,"ok","niet ok") -> ok | H41: =E41+I12 -> 0.16720779 | I41: =IF(E41*1.2>H41,"ok","niet ok") -> niet ok | J41: =F41 -> 0.013441558
A42: 29 | B42: =IF(NOT(ISBLANK(A42)),VLOOKUP(A42,Tabellen!$A$2:$B$152,2,FALSE),"") -> 85.2 | C42: 22 | D42: =IF(C42=0,0,(MAX(0,(B42-(B42/21*(VLOOKUP($B$12,Tabellen!$E$2:$F$2,2,FALSE)-C42)))))) -> 85.2 | E42: =D42/(2*C42*A42) -> 0.06677116 | F42: =E42*G12 -> 0.013354232 | G42: =IF(F42<0.1,"ok","niet ok") -> ok | H42: =E42+I12 -> 0.16677116 | I42: =IF(E42*1.2>H42,"ok","niet ok") -> niet ok | J42: =F42 -> 0.013354232
A43: 30 | B43: =IF(NOT(ISBLANK(A43)),VLOOKUP(A43,Tabellen!$A$2:$B$152,2,FALSE),"") -> 87.6 | C43: 22 | D43: =IF(C43=0,0,(MAX(0,(B43-(B43/21*(VLOOKUP($B$12,Tabellen!$E$2:$F$2,2,FALSE)-C43)))))) -> 87.6 | E43: =D43/(2*C43*A43) -> 0.066363636 | F43: =E43*G12 -> 0.013272727 | G43: =IF(F43<0.1,"ok","niet ok") -> ok | H43: =E43+I12 -> 0.16636364 | I43: =IF(E43*1.2>H43,"ok","niet ok") -> niet ok | J43: =F43 -> 0.013272727
A44: 31 | B44: =IF(NOT(ISBLANK(A44)),VLOOKUP(A44,Tabellen!$A$2:$B$152,2,FALSE),"") -> 90.6 | C44: 22 | D44: =IF(C44=0,0,(MAX(0,(B44-(B44/21*(VLOOKUP($B$12,Tabellen!$E$2:$F$2,2,FALSE)-C44)))))) -> 90.6 | E44: =D44/(2*C44*A44) -> 0.066422287 | F44: =E44*G12 -> 0.013284457 | G44: =IF(F44<0.1,"ok","niet ok") -> ok | H44: =E44+I12 -> 0.16642229 | I44: =IF(E44*1.2>H44,"ok","niet ok") -> niet ok | J44: =F44 -> 0.013284457
A45: 32 | B45: =IF(NOT(ISBLANK(A45)),VLOOKUP(A45,Tabellen!$A$2:$B$152,2,FALSE),"") -> 90.6 | C45: 22 | D45: =IF(C45=0,0,(MAX(0,(B45-(B45/21*(VLOOKUP($B$12,Tabellen!$E$2:$F$2,2,FALSE)-C45)))))) -> 90.6 | E45: =D45/(2*C45*A45) -> 0.064346591 | F45: =E45*G12 -> 0.012869318 | G45: =IF(F45<0.1,"ok","niet ok") -> ok | H45: =E45+I12 -> 0.16434659 | I45: =IF(E45*1.2>H45,"ok","niet ok") -> niet ok | J45: =F45 -> 0.012869318
A46: 33 | B46: =IF(NOT(ISBLANK(A46)),VLOOKUP(A46,Tabellen!$A$2:$B$152,2,FALSE),"") -> 90.6 | C46: 22 | D46: =IF(C46=0,0,(MAX(0,(B46-(B46/21*(VLOOKUP($B$12,Tabellen!$E$2:$F$2,2,FALSE)-C46)))))) -> 90.6 | E46: =D46/(2*C46*A46) -> 0.062396694 | F46: =E46*G12 -> 0.012479339 | G46: =IF(F46<0.1,"ok","niet ok") -> ok | H46: =E46+I12 -> 0.16239669 | I46: =IF(E46*1.2>H46,"ok","niet ok") -> niet ok | J46: =F46 -> 0.012479339
A47: 34 | B47: =IF(NOT(ISBLANK(A47)),VLOOKUP(A47,Tabellen!$A$2:$B$152,2,FALSE),"") -> 96 | C47: 22 | D47: =IF(C47=0,0,(MAX(0,(B47-(B47/21*(VLOOKUP($B$12,Tabellen!$E$2:$F$2,2,FALSE)-C47)))))) -> 96 | E47: =D47/(2*C47*A47) -> 0.064171123 | F47: =E47*G12 -> 0.012834225 | G47: =IF(F47<0.1,"ok","niet ok") -> ok | H47: =E47+I12 -> 0.16417112 | I47: =IF(E47*1.2>H47,"ok","niet ok") -> niet ok | J47: =F47 -> 0.012834225
A48: 35 | B48: =IF(NOT(ISBLANK(A48)),VLOOKUP(A48,Tabellen!$A$2:$B$152,2,FALSE),"") -> 96 | C48: 22 | D48: =IF(C48=0,0,(MAX(0,(B48-(B48/21*(VLOOKUP($B$12,Tabellen!$E$2:$F$2,2,FALSE)-C48)))))) -> 96 | E48: =D48/(2*C48*A48) -> 0.062337662 | F48: =E48*G12 -> 0.012467532 | G48: =IF(F48<0.1,"ok","niet ok") -> ok | H48: =E48+I12 -> 0.16233766 | I48: =IF(E48*1.2>H48,"ok","niet ok") -> niet ok | J48: =F48 -> 0.012467532
...

Sheet Tabellen
A1: enkele afstand | B1: tussenkomst | E1: maand | F1: # werkdagen
A2: 1 | B2: 28.5 | E2: April | F2: 22
A3: 2 | B3: 28.5
A4: 3 | B4: 28.5
A5: 4 | B5: 31.2
A6: 5 | B6: 33.6
A7: 6 | B7: 36 | E7: vergoeding is gebaseerd op op % standaard maandabonnement NMBS
A8: 7 | B8: 37.8 | E8: voor de periode van februari tot en met januari van het volgende jaar
A9: 8 | B9: 40.2
A10: 9 | B10: 42
A11: 10 | B11: 44.4 | E11: # dagen zijn weekdagen / maand
A12: 11 | B12: 46.8 | E12: tool is dus enkel te gebruiken voor 5-daagse werkweek
A13: 12 | B13: 48.6
A14: 13 | B14: 51
A15: 14 | B15: 52.8 | E15: disclaimer:
A16: 15 | B16: 55.2 | E16: deze tool wordt door Sociare aangeboden aan haar leden
A17: 16 | B17: 57 | E17: gebruik onder verantwoordelijkheid van de gebruiker
A18: 17 | B18: 59.4
A19: 18 | B19: 61.8
A20: 19 | B20: 63.6
A21: 20 | B21: 66
A22: 21 | B22: 67.8
A23: 22 | B23: 70.2
A24: 23 | B24: 72
A25: 24 | B25: 74.4
A26: 25 | B26: 76.8
A27: 26 | B27: 78.6
A28: 27 | B28: 81
A29: 28 | B29: 82.8
... A151: 150 | B151: 207.6
